BEGIN:VCALENDAR
VERSION:2.0
PRODID:-//ChamberMaster//Event Calendar 2.0//EN
METHOD:PUBLISH
X-PUBLISHED-TTL:P3D
REFRESH-INTERVAL:P3D
CALSCALE:GREGORIAN
BEGIN:VEVENT
DTSTART:20121024T233000Z
DTEND:20121025T010000Z
X-MICROSOFT-CDO-ALLDAYEVENT:FALSE
SUMMARY:Imprisoned Spirits: Paranormal Museum Tour
DESCRIPTION:Ghost stories abound about strange happenings at the Old County Courthouse and Jail.  Are they really haunted?  Find out for yourself during this special tour.  \n\n	Join us for a 90-minute guided Imprisoned Spirits Tour. Visit areas in both Museums where bizarre and unsettling phenomena have been experienced and hear about the eerie histories of the buildings.  New personal experiences and historical anecdotes have been added to this year's tour.\n\n	$10.00 per non member and $8.00 per member. Cash or check only\, please. Reservations are required since space is limited. Not recommended for children under 12. Meet in front of Old Courthouse Museum at 6:15 pm for the 6:30 tour or 8:15 for the 8:30 tour.
X-ALT-DESC;FMTTYPE=text/html:<p class="MsoNormal" style="mso-margin-top-alt: auto\; mso-margin-bottom-alt: auto">\n	Ghost stories abound about strange happenings at the Old County Courthouse and Jail.<span style="mso-spacerun: yes">&nbsp\; </span>Are they really haunted?<span style="mso-spacerun: yes">&nbsp\; </span>Find out for yourself during this special tour.<span style="mso-spacerun: yes">&nbsp\; </span></p>\n<p class="MsoNormal" style="mso-margin-top-alt: auto\; mso-margin-bottom-alt: auto">\n	Join us for a 90-minute guided Imprisoned Spirits Tour. Visit areas in both Museums where bizarre and unsettling phenomena have been experienced and hear about the eerie histories of the buildings.<span style="mso-spacerun: yes">&nbsp\; </span>New personal experiences and historical anecdotes have been added to this year&#39\;s tour.</p>\n<p class="MsoNormal" style="mso-margin-top-alt: auto\; mso-margin-bottom-alt: auto">\n	$10.00 per non member and $8.00 per member. Cash or check only\, please. Reservations are required since space is limited. Not recommended for children under 12. Meet in front of Old Courthouse Museum at 6:15 pm for the 6:30 tour or 8:15 for the 8:30 tour.</p>\n
LOCATION:320 S 5th Ave West Bend\, WI 53095
UID:e.898.1225
SEQUENCE:3
DTSTAMP:20260422T162348Z
URL:https://business.hartfordareachamber.org/events/details/imprisoned-spirits-paranormal-museum-tour-10-24-2012-1225
END:VEVENT

END:VCALENDAR
