BEGIN:VCALENDAR
VERSION:2.0
PRODID:-//ChamberMaster//Event Calendar 2.0//EN
METHOD:PUBLISH
X-PUBLISHED-TTL:P3D
REFRESH-INTERVAL:P3D
CALSCALE:GREGORIAN
BEGIN:VEVENT
DTSTART:20130927T000000Z
DTEND:20130927T013000Z
X-MICROSOFT-CDO-ALLDAYEVENT:FALSE
SUMMARY:Imprisoned Spirits: Paranormal Museum Tours
DESCRIPTION:Are the Old Washington County Courthouse and Old Jailhouse in West Bend haunted? Visit areas in both Museums where bizarre and unsettling phenomena have been experienced by staff\, volunteers\, and visitors.\n\n	90-minute guided tour of both historic buildings. Meet in front of Old Courthouse Museum at 6:45. 320 S. 5th Avenue\, West Bend\, WI 53095\n\n	$10.00/person   $8.00/WCHS member\n\n	Please call ahead to save your spot. Not recommended for children under 12.\n\n	Contact Jessica education@historyisfun.com or (262) 335-4678
X-ALT-DESC;FMTTYPE=text/html:<p>\n	Are the Old Washington County Courthouse and Old Jailhouse in West Bend haunted? Visit areas in both Museums where bizarre and unsettling phenomena have been experienced by staff\, volunteers\, and visitors.</p>\n<p>\n	90-minute guided tour of both historic buildings. Meet in front of Old Courthouse Museum at 6:45. 320 S. 5th Avenue\, West Bend\, WI 53095</p>\n<p>\n	$10.00/person&nbsp\;&nbsp\; $8.00/WCHS member</p>\n<p>\n	Please call ahead to save your spot. Not recommended for children under 12.</p>\n<p>\n	Contact Jessica education@historyisfun.com or (262) 335-4678</p>\n
LOCATION:Old Courthouse Museum\, 320 S 5th Ave\, West Bend\, WI
UID:e.898.2515
SEQUENCE:3
DTSTAMP:20260421T221145Z
URL:https://business.hartfordareachamber.org/events/details/imprisoned-spirits-paranormal-museum-tours-09-26-2013-2515
END:VEVENT

END:VCALENDAR
