BEGIN:VCALENDAR
VERSION:2.0
PRODID:-//ChamberMaster//Event Calendar 2.0//EN
METHOD:PUBLISH
X-PUBLISHED-TTL:P3D
REFRESH-INTERVAL:P3D
CALSCALE:GREGORIAN
BEGIN:VEVENT
DTSTART:20130129T233000Z
DTEND:20130130T033000Z
X-MICROSOFT-CDO-ALLDAYEVENT:FALSE
SUMMARY:Intermediate Digital Cameras
DESCRIPTION:30634\n\nDiscover tools to improve both your digital pictures and your digital photography skills.
X-ALT-DESC;FMTTYPE=text/html:30634<br />\nDiscover tools to improve both your digital pictures and your digital photography skills.
LOCATION:Hartford Union High School 805 Cedar St. Hartford\, WI 53027
UID:e.898.1745
SEQUENCE:3
DTSTAMP:20260422T112211Z
URL:https://business.hartfordareachamber.org/events/details/intermediate-digital-cameras-01-29-2013-1745
END:VEVENT

END:VCALENDAR
