BEGIN:VCALENDAR
VERSION:2.0
PRODID:-//ChamberMaster//Event Calendar 2.0//EN
METHOD:PUBLISH
X-PUBLISHED-TTL:P3D
REFRESH-INTERVAL:P3D
CALSCALE:GREGORIAN
BEGIN:VEVENT
DTSTART:20120410T010000Z
DTEND:20120410T025500Z
X-MICROSOFT-CDO-ALLDAYEVENT:FALSE
SUMMARY:Intro to Observational Astronomy
DESCRIPTION:806-600   Introduction to Observational Astronomy              04/09-04/18\n\n	8 Hrs. - $43.00               (62 & over $33.25)\n\n	Interested in the wonders of the night sky? Identify major constellations\, bright stars and planets using binoculars and telescopes. Discussions include how stars are formed\, the history of the telescope\, the structure of the universe and more. Perfect class for the beginning astronomer.\n\n	 \n\n	30838    HRT      MW         Setzer     \n\n	08:00P-09:55P
X-ALT-DESC;FMTTYPE=text/html:<p class="MsoPlainText" style="margin: 0in 0in 0pt\; tab-stops: .75in 117.0pt 166.5pt 274.5pt 369.0pt right 535.5pt">\n	<span style="font-family: 'arial'\, 'sans-serif'\; font-size: 12pt"><font color="#000000">806-600<span style="mso-tab-count: 1">&nbsp\;&nbsp\; </span>Introduction to Observational Astronomy&nbsp\;&nbsp\;&nbsp\;&nbsp\;&nbsp\;&nbsp\;&nbsp\;&nbsp\;&nbsp\;&nbsp\;&nbsp\;&nbsp\;&nbsp\;&nbsp\;04/09-04/18</font></span></p>\n<p class="MsoPlainText" style="margin: 0in 0in 0pt\; tab-stops: .75in 117.0pt 166.5pt 274.5pt 369.0pt right 535.5pt">\n	<span style="font-family: 'arial'\, 'sans-serif'\; font-size: 12pt"><font color="#000000">8 Hrs. - $43.00<span style="mso-tab-count: 1">&nbsp\;&nbsp\;&nbsp\;&nbsp\;&nbsp\;&nbsp\;&nbsp\;&nbsp\;&nbsp\;&nbsp\;&nbsp\;&nbsp\;&nbsp\;&nbsp\; </span>(62 &amp\; over $33.25)</font></span></p>\n<p class="MsoPlainText" style="margin: 0in 0in 0pt\; tab-stops: .75in 117.0pt 166.5pt 274.5pt 369.0pt right 535.5pt">\n	<span style="font-family: 'arial'\, 'sans-serif'\; font-size: 12pt"><font color="#000000">Interested in the wonders of the night sky? Identify major constellations\, bright stars and planets using binoculars and telescopes. Discussions include how stars are formed\, the history of the telescope\, the structure of the universe and more. Perfect class for the beginning astronomer.</font></span><br />\n	&nbsp\;</p>\n<p class="MsoPlainText" style="margin: 0in 0in 0pt\; tab-stops: .75in 117.0pt 166.5pt 274.5pt 369.0pt right 535.5pt">\n	<span style="font-family: 'arial'\, 'sans-serif'\; font-size: 12pt"><font color="#000000">30838<span style="mso-tab-count: 1">&nbsp\;&nbsp\;&nbsp\;&nbsp\;</span>HRT<span style="mso-tab-count: 1">&nbsp\;&nbsp\;&nbsp\;&nbsp\;&nbsp\;&nbsp\;</span>MW<span style="mso-tab-count: 1">&nbsp\;&nbsp\;&nbsp\;&nbsp\;&nbsp\;&nbsp\;&nbsp\;&nbsp\;&nbsp\;Setzer&nbsp\;&nbsp\;&nbsp\; &nbsp\;</span><br />\n	08:00P-09:55P<span style="mso-tab-count: 1">&nbsp\;&nbsp\;&nbsp\;&nbsp\;&nbsp\;&nbsp\;&nbsp\;&nbsp\;&nbsp\;</span><span style="mso-tab-count: 2">&nbsp\;&nbsp\;&nbsp\;&nbsp\;&nbsp\;&nbsp\;&nbsp\;&nbsp\;&nbsp\;&nbsp\;&nbsp\;&nbsp\;&nbsp\;&nbsp\;&nbsp\;&nbsp\;&nbsp\;&nbsp\;&nbsp\;&nbsp\;&nbsp\;&nbsp\;&nbsp\;&nbsp\;&nbsp\;&nbsp\;&nbsp\;&nbsp\;&nbsp\;&nbsp\;&nbsp\;&nbsp\;&nbsp\;&nbsp\;&nbsp\;&nbsp\;&nbsp\;&nbsp\;&nbsp\;&nbsp\;&nbsp\;&nbsp\;&nbsp\;&nbsp\;&nbsp\;&nbsp\;&nbsp\;&nbsp\;&nbsp\;&nbsp\;&nbsp\; </span></font></span></p>\n
LOCATION:MPTC Hartford Regional Center 805 Cedar Street Hartford\, WI 53027
UID:e.898.1148
SEQUENCE:3
DTSTAMP:20260423T021846Z
URL:https://business.hartfordareachamber.org/events/details/intro-to-observational-astronomy-04-09-2012-1148
END:VEVENT

END:VCALENDAR
