BEGIN:VCALENDAR
VERSION:2.0
PRODID:-//ChamberMaster//Event Calendar 2.0//EN
METHOD:PUBLISH
X-PUBLISHED-TTL:P3D
REFRESH-INTERVAL:P3D
CALSCALE:GREGORIAN
BEGIN:VEVENT
DTSTART:20130207T000000Z
DTEND:20130207T030000Z
X-MICROSOFT-CDO-ALLDAYEVENT:FALSE
SUMMARY:Introduction to Woodworking
DESCRIPTION:30562\n\nReview the safe use of power tools. Create a basic project. Apply safety procedures for woodworking. Students are required to supply their own projects.
X-ALT-DESC;FMTTYPE=text/html:30562<br />\nReview the safe use of power tools. Create a basic project. Apply safety procedures for woodworking. Students are required to supply their own projects.
LOCATION:Hartford Union High School 805 Cedar St. Hartford\, WI 53027
UID:e.898.1746
SEQUENCE:3
DTSTAMP:20260422T095352Z
URL:https://business.hartfordareachamber.org/events/details/introduction-to-woodworking-02-06-2013-1746
END:VEVENT

END:VCALENDAR
