BEGIN:VCALENDAR
VERSION:2.0
PRODID:-//ChamberMaster//Event Calendar 2.0//EN
METHOD:PUBLISH
X-PUBLISHED-TTL:P3D
REFRESH-INTERVAL:P3D
CALSCALE:GREGORIAN
BEGIN:VEVENT
DTSTART;VALUE=DATE:20130518
DTEND;VALUE=DATE:20130519
TRANSP:TRANSPARENT
X-MICROSOFT-CDO-ALLDAYEVENT:TRUE
SUMMARY:Jackson Rummage
DESCRIPTION:Jackson Village\n\n			Wide Rummage Sale\n	\n	\n		\n			\n				This is it!  The Village-wide rummage sale!  \n\n				\n\n				This sale takes place every year on the\n\n				Saturday following Mother's Day. \n\n				\n\n				This year it takes place on May 18 --\n\n				Someone else's "trash" could be your treasure!\n\n				\n\n				For more information contact the\n\n				Community Center\n\n				262-677-9665
X-ALT-DESC;FMTTYPE=text/html:<div class="item">\n	<div class="itemHeadline">\n		<div class="headline3">\n			<span style="font-size:18px\;"><strong>Jackson Village<br />\n			Wide Rummage Sale</strong></span></div>\n	</div>\n	<div class="itemBody">\n		<div class="description">\n			<p align="justify">\n				<span style="color: black\;"><strong><span style="font-size:14px\;">This is it!&nbsp\; The Village-wide rummage sale!&nbsp\; </span></strong><br />\n				<br />\n				This sale takes place every year on the<br />\n				Saturday following Mother&#39\;s Day.&nbsp\;<br />\n				<br />\n				This year it takes place on May 18 --<br />\n				Someone else&#39\;s &quot\;trash&quot\; could be your treasure!</span><br />\n				<br />\n				For more information contact the<br />\n				<span style="font-size:16px\;"><strong>Community Center</strong></span><br />\n				<strong><span style="font-size:16px\;">262-677-9665</span></strong></p>\n		</div>\n	</div>\n</div>\n
LOCATION:
UID:e.898.1820
SEQUENCE:3
DTSTAMP:20260422T042604Z
URL:https://business.hartfordareachamber.org/events/details/jackson-rummage-05-18-2013-1820
END:VEVENT

END:VCALENDAR
