BEGIN:VCALENDAR
VERSION:2.0
PRODID:-//ChamberMaster//Event Calendar 2.0//EN
METHOD:PUBLISH
X-PUBLISHED-TTL:P3D
REFRESH-INTERVAL:P3D
CALSCALE:GREGORIAN
BEGIN:VEVENT
DTSTART:20140920T200000Z
DTEND:20140920T210000Z
X-MICROSOFT-CDO-ALLDAYEVENT:FALSE
SUMMARY:Jazz Ensemble - Hartford City Band
DESCRIPTION:Join the Hartford City Band Jazz Ensemble as they perform outdoors on a covered stage at Holy Hill.
X-ALT-DESC;FMTTYPE=text/html:Join the Hartford City Band Jazz Ensemble as they perform outdoors on a covered stage at Holy Hill.
LOCATION:Holy Hill Church - National Shrine 1525 Carmel Road\, Hartford
UID:e.898.3222
SEQUENCE:3
DTSTAMP:20260421T003435Z
URL:https://business.hartfordareachamber.org/events/details/jazz-ensemble-hartford-city-band-09-20-2014-3222
END:VEVENT

END:VCALENDAR
