BEGIN:VCALENDAR
VERSION:2.0
PRODID:-//ChamberMaster//Event Calendar 2.0//EN
METHOD:PUBLISH
X-PUBLISHED-TTL:P3D
REFRESH-INTERVAL:P3D
CALSCALE:GREGORIAN
BEGIN:VEVENT
DTSTART:20131024T000000Z
DTEND:20131024T020000Z
X-MICROSOFT-CDO-ALLDAYEVENT:FALSE
SUMMARY:Jessica Michna: The Salem Witch Trials
DESCRIPTION:The Hartford Public Library and Friends of the Library  present\n\n	Jessica Michna: The Salem Witch Trials\n\n	It was a new world\, the land called "Amerika".  Settlers would lay old traditions aside.  Greed\, jealousy\, suspicion would persist.  Were these at the root of the Salem Witch trials?\n\n	Actress and Historian Jessica Michna revisits what is perhaps the most infamous chapter of early American history.\n\n\nst1\\:*{behavior:url(#ieooui) }
X-ALT-DESC;FMTTYPE=text/html:<p class="MsoNormal">\n	<b style="mso-bidi-font-weight: normal\;"><span style="font-size: 14pt\;">The </span></b><b style="mso-bidi-font-weight: normal\;"><span style="font-size: 14pt\;">Hartford</span></b><b style="mso-bidi-font-weight: normal\;"><span style="font-size: 14pt\;"> Public Library and Friends of the Library&nbsp\; present</span></b></p>\n<p class="MsoNormal">\n	<b style="mso-bidi-font-weight: normal\;"><span style="font-size: 14pt\;">Jessica Michna: The </span></b><b style="mso-bidi-font-weight: normal\;"><span style="font-size: 14pt\;">Salem</span></b><b style="mso-bidi-font-weight: normal\;"><span style="font-size: 14pt\;"> Witch Trials</span></b></p>\n<p class="MsoNormal">\n	<b style="mso-bidi-font-weight: normal\;"><span style="font-size: 14pt\;">It was a new world\, the land called &ldquo\;Amerika&rdquo\;.<span style="mso-spacerun: yes\;">&nbsp\; </span>Settlers would lay old traditions aside.<span style="mso-spacerun: yes\;">&nbsp\; </span>Greed\, jealousy\, suspicion would persist.<span style="mso-spacerun: yes\;">&nbsp\; </span>Were these at the root of the </span></b><b style="mso-bidi-font-weight: normal\;"><span style="font-size: 14pt\;">Salem</span></b><b style="mso-bidi-font-weight: normal\;"><span style="font-size: 14pt\;"> Witch trials?</span></b></p>\n<p class="MsoNormal">\n	<b style="mso-bidi-font-weight: normal\;"><span style="font-size: 14pt\;">Actress and Historian Jessica Michna revisits what is perhaps the most infamous chapter of early American history.</span></b></p>\n<object classid="clsid:38481807-CA0E-42D2-BF39-B33AF135CC4D" id="ieooui"></object>\n<style type="text/css">\nst1\\:*{behavior:url(#ieooui) }</style>\n
LOCATION:Jack Russell Memorial Library Community Room 100 Park Ave. Hartford\, WI
UID:e.898.2792
SEQUENCE:3
DTSTAMP:20260421T201908Z
URL:https://business.hartfordareachamber.org/events/details/jessica-michna-the-salem-witch-trials-10-23-2013-2792
END:VEVENT

END:VCALENDAR
