BEGIN:VCALENDAR
VERSION:2.0
PRODID:-//ChamberMaster//Event Calendar 2.0//EN
METHOD:PUBLISH
X-PUBLISHED-TTL:P3D
REFRESH-INTERVAL:P3D
CALSCALE:GREGORIAN
BEGIN:VEVENT
DTSTART:20130512T000000Z
DTEND:20130512T030000Z
X-MICROSOFT-CDO-ALLDAYEVENT:FALSE
SUMMARY:JOSEPH
DESCRIPTION:Central Middle School Performs\n\nJoseph & the Amazing Technicolor Dreamcoat\n\n\n\nWith a cast of almost 100 students\, CMS will be performing the family favorite under the direction of Lori Hassig\, Juliana Geraghty and Sharon Speiser.\n\n\n\nJOSEPH is a retelling of the biblical story of Joseph and his coat of many colors\, his devoted father\, his jealous brothers\, and his incredible series of adventures.
X-ALT-DESC;FMTTYPE=text/html:<strong>Central Middle School Performs<br />\nJoseph &amp\; the Amazing Technicolor Dreamcoat</strong><br />\n<br />\nWith a cast of almost 100 students\, CMS will be performing the family favorite under the direction of Lori Hassig\, Juliana Geraghty and Sharon Speiser.<br />\n<br />\nJOSEPH is a retelling of the biblical story of Joseph and his coat of many colors\, his devoted father\, his jealous brothers\, and his incredible series of adventures.&nbsp\;&nbsp\;
LOCATION:Central Middle School
UID:e.898.1807
SEQUENCE:3
DTSTAMP:20260422T042604Z
URL:https://business.hartfordareachamber.org/events/details/joseph-05-11-2013-1807
END:VEVENT

END:VCALENDAR
