BEGIN:VCALENDAR
VERSION:2.0
PRODID:-//ChamberMaster//Event Calendar 2.0//EN
METHOD:PUBLISH
X-PUBLISHED-TTL:P3D
REFRESH-INTERVAL:P3D
CALSCALE:GREGORIAN
BEGIN:VEVENT
DTSTART:20130228T233000Z
DTEND:20130301T033000Z
X-MICROSOFT-CDO-ALLDAYEVENT:FALSE
SUMMARY:Jumpstart Your Business Plan
DESCRIPTION:31294\n\nExplore the essentials of business planning in this course designed specifically for anyone with an existing business\, a business idea\, or the desire to become an entrepreneur. Participants will apply the concepts of success\, market\, cash flow and operations planning while completing the process of writing a business plan to support turning your idea into reality.
X-ALT-DESC;FMTTYPE=text/html:31294<br />\nExplore the essentials of business planning in this course designed specifically for anyone with an existing business\, a business idea\, or the desire to become an entrepreneur. Participants will apply the concepts of success\, market\, cash flow and operations planning while completing the process of writing a business plan to support turning your idea into reality.
LOCATION:Hartford Union High School 805 Cedar St. Hartford\, WI 53027
UID:e.898.1749
SEQUENCE:3
DTSTAMP:20260422T095921Z
URL:https://business.hartfordareachamber.org/events/details/jumpstart-your-business-plan-02-28-2013-1749
END:VEVENT

END:VCALENDAR
