BEGIN:VCALENDAR
VERSION:2.0
PRODID:-//ChamberMaster//Event Calendar 2.0//EN
METHOD:PUBLISH
X-PUBLISHED-TTL:P3D
REFRESH-INTERVAL:P3D
CALSCALE:GREGORIAN
BEGIN:VEVENT
DTSTART:20150307T150000Z
DTEND:20150307T180000Z
X-MICROSOFT-CDO-ALLDAYEVENT:FALSE
SUMMARY:Junior Girl Scout Program: Mystery in the Museum
DESCRIPTION:The Junior Girl Scouts are called to the scene of a robbery at the Old Courthouse Museum. Complete activities and put the clues together to discovery who is the culprit! -Dust for Fingerprints -Analyze Handwriting -Learn Chromatography -Collect Trace Evidence -MORE!
X-ALT-DESC;FMTTYPE=text/html:The Junior Girl Scouts are called to the scene of a robbery at the Old Courthouse Museum. Complete activities and put the clues together to discovery who is the culprit! -Dust for Fingerprints -Analyze Handwriting -Learn Chromatography -Collect Trace Evidence -MORE!
LOCATION:Old Courthouse Museum 320 S. 5th Avenue West Bend 53095
UID:e.898.3317
SEQUENCE:3
DTSTAMP:20260420T140621Z
URL:https://business.hartfordareachamber.org/events/details/junior-girl-scout-program-mystery-in-the-museum-03-07-2015-3317
END:VEVENT

END:VCALENDAR
