BEGIN:VCALENDAR
VERSION:2.0
PRODID:-//ChamberMaster//Event Calendar 2.0//EN
METHOD:PUBLISH
X-PUBLISHED-TTL:P3D
REFRESH-INTERVAL:P3D
CALSCALE:GREGORIAN
BEGIN:VEVENT
DTSTART:20120804T150000Z
DTEND:20120804T180000Z
X-MICROSOFT-CDO-ALLDAYEVENT:FALSE
SUMMARY:Kids Day
DESCRIPTION:Kids Day\n\n\n\nSaturday\, August 4\n\n10am to 1 pm\n\n\n\nRueben's County Market\n\n1566 East Sumner Street\, Hartford\n\n\n\nA special day of kids games and fun\n\nin appreciation to the community!
X-ALT-DESC;FMTTYPE=text/html:<strong><span style="font-size: 18px">Kids Day</span><br />\n<br />\n<span style="font-size: 14px">Saturday\, August 4<br />\n10am to 1 pm</span></strong><br />\n<br />\n<span style="font-size: 14px"><strong>Rueben&#39\;s County Market</strong></span><br />\n1566 East Sumner Street\, Hartford<br />\n<br />\nA special day of kids games and fun<br />\nin appreciation to the community!
LOCATION:
UID:e.898.1548
SEQUENCE:3
DTSTAMP:20260420T032824Z
URL:https://business.hartfordareachamber.org/events/details/kids-day-08-04-2012-1548
END:VEVENT

END:VCALENDAR
