BEGIN:VCALENDAR
VERSION:2.0
PRODID:-//ChamberMaster//Event Calendar 2.0//EN
METHOD:PUBLISH
X-PUBLISHED-TTL:P3D
REFRESH-INTERVAL:P3D
CALSCALE:GREGORIAN
BEGIN:VEVENT
DTSTART:20130628T000000Z
DTEND:20130628T020000Z
X-MICROSOFT-CDO-ALLDAYEVENT:FALSE
SUMMARY:Kids From Wisconsin
DESCRIPTION:As the State's official musical ambassadors of goodwill\, KIDS from Wisconsin has delighted audiences across the country. From their vocal and instrumental talent\, to the stunning choreography and costumes\, KIDS continues to be one of the Midwest's most popular youth music groups. Their performances feature 20 singer/dancers and a 13-piece show band\, all chosen from the State's finest musicians. KidsFromWisconsin.com\n\n\n\nADULT $19   STUDENT $17   CHILD $14 LAP seats available for children age 3 & under. They may be purchased by choosing the ADULT+LAP price in the drop down box. This will add the cost of a lap seat ($5) to the price of an adult ticket and print two admission tickets.
X-ALT-DESC;FMTTYPE=text/html:As the State&rsquo\;s official musical ambassadors of goodwill\, KIDS from Wisconsin has delighted audiences across the country. From their vocal and instrumental talent\, to the stunning choreography and costumes\, KIDS continues to be one of the Midwest&rsquo\;s most popular youth music groups. Their performances feature 20 singer/dancers and a 13-piece show band\, all chosen from the State&rsquo\;s finest musicians. KidsFromWisconsin.com<br />\n<br />\nADULT $19 &middot\; STUDENT $17 &middot\; CHILD $14 LAP seats available for children age 3 &amp\; under. They may be purchased by choosing the ADULT+LAP price in the drop down box. This will add the cost of a lap seat ($5) to the price of an adult ticket and print two admission tickets. 
LOCATION:Schauer Arts & Activities Center 147 N Rural Street Hartford\, WI 53027
UID:e.898.2573
SEQUENCE:3
DTSTAMP:20260419T121106Z
URL:https://business.hartfordareachamber.org/events/details/kids-from-wisconsin-06-27-2013-2573
END:VEVENT

END:VCALENDAR
