BEGIN:VCALENDAR
VERSION:2.0
PRODID:-//ChamberMaster//Event Calendar 2.0//EN
METHOD:PUBLISH
X-PUBLISHED-TTL:P3D
REFRESH-INTERVAL:P3D
CALSCALE:GREGORIAN
BEGIN:VEVENT
DTSTART:20131201T170000Z
DTEND:20131201T200000Z
X-MICROSOFT-CDO-ALLDAYEVENT:FALSE
SUMMARY:Kooky Cooky House
DESCRIPTION:Hartfords\n\nKooky Cooky House\n\n\n\nA magical gingerbread cookie factory\, where kids of all ages can come to visit Santa Claus.\n\nThe Hartford Area Chamber and local businesses are working to recreate the excitement\, join us!\n\n \n\n\n\nVISIT SANTA & receive a free Gingerbread Cookie! Relive the nostalgia and view some of the original items from the original Kooky Cooky House in Milwaukee now at home in Hartford.\n\n \n\n SANTA HOURS\n\nFriday\, November 15 through \n\nSunday\, December 22\n\nFridays 4-7pm \n\nSaturdays & Sundays 11am-2pm\n\n\n\nSpecial Hours for Downtown Midnight Madness Dec. 20 4-9 pm\n\n\n\nParents bring your cameras!\n\nThe event is free and open to the public!\n\n \n\nDonate $1 and place your name on a shingle to help build the Kooky Cooky House. Donate $5 for a gold shingle\, gingerbread cookie and souvenir coloring book. Additional gingerbread cookies also available for purchase.\n\n \n\nClick HERE for the flyer!
X-ALT-DESC;FMTTYPE=text/html:<span style="font-size:20px\;"><span style="letter-spacing: 0.5pt\;"><span style="color: rgb(180\, 0\, 0)\;"><span style="font-family: accent\;">Hartfords</span></span></span><br />\n<span style="letter-spacing: 0.5pt\;"><span style="color: rgb(180\, 0\, 0)\;"><span style="font-family: accent\;">Kooky Cooky House</span></span></span></span><br />\n<br />\n<span style="language:EN\;"><span style="font-family:candara\;">A magical gingerbread cookie factory\, where kids of all ages can come to visit Santa Claus.</span></span><br />\n<span style="language:EN\;"><span style="font-family:candara\;">The Hartford Area Chamber and local businesses are working to recreate the excitement\, join us!</span></span><br />\n&nbsp\;<br />\n<br />\n<span style="font-size:16px\;"><span style="font-weight: bold\;"><span style="font-family: baskerville old face\;">VISIT SANTA &amp\; receive a free Gingerbread Cookie! </span></span><span style="font-weight: bold\;"><span style="font-family: baskerville old face\;">Relive the nostalgia and view some of the original items </span></span><span style="font-weight: bold\;"><span style="font-family: baskerville old face\;">from the original Kooky Cooky House in Milwaukee </span></span><span style="font-weight: bold\;"><span style="font-family: baskerville old face\;">now at home in Hartford.</span></span></span><br />\n&nbsp\;<br />\n&nbsp\;<strong><span style="font-size:14px\;"><span><span style="color: rgb(210\, 0\, 0)\;"><span style="font-family: britannic bold\;">SANTA HOURS</span></span></span></span></strong><br />\n<span style="font-size:16px\;"><span style="font-weight: bold\;"><span style="color: rgb(210\, 0\, 0)\;"><span style="font-family: candara\;">Friday\, November 15 through </span></span></span><br />\n<span style="font-weight: bold\;"><span style="color: rgb(210\, 0\, 0)\;"><span style="font-family: candara\;">Sunday\, December 22</span></span></span></span><br />\n<span style="font-size:14px\;"><span style="font-weight: bold\;"><span style="font-family: candara\;">Fridays 4-7pm </span></span><br />\n<span style="font-weight: bold\;"><span style="font-family: candara\;">Saturdays &amp\; Sundays 11am-2pm</span></span></span><br />\n<br />\n<span style="font-style:italic\;font-weight:bold\;language:EN\;"><span style="font-family:candara\;"><span style="font-size:12.0pt\;">Special Hours for Downtown Midnight Madness Dec. 20 4-9 pm</span></span></span><br />\n<br />\n<span style="font-style:italic\;font-weight:bold\;language:EN\;"><span style="font-family:candara\;"><span style="font-size:16.0pt\;"><span style="font-size:14px\;">Parents bring your cameras!</span></span></span></span><br />\n<span style="font-style:italic\;font-weight:bold\;language:EN\;"><span style="font-family:candara\;">The event is free and open to the public!</span></span><br />\n&nbsp\;<br />\n<span style="font-style:italic\;font-weight:bold\;language:EN\;"><span style="font-family:candara\;">Donate $1 and place your name on a shingle to help build the Kooky Cooky House. </span></span><span style="font-style:italic\;font-weight:bold\;language:EN\;"><span style="font-family:candara\;">Donate $5 for a gold shingle\, gingerbread cookie and souvenir coloring book. </span></span><span style="font-style:italic\;font-weight:bold\;language:EN\;"><span style="font-family:candara\;">Additional gingerbread cookies also available for purchase.</span></span><br />\n&nbsp\;<br />\n<strong>Click <a href="http://cloud.chambermaster.com/userfiles/UserFiles/chambers/898/File/flyer-2013KookyCookyHouse1.pdf" target="_blank">HERE</a> for the flyer!</strong><br />\n<br />\n&nbsp\;
LOCATION:31 North Main Street Downtown Hartford Across from The Mineshaft (formerly the old St. Vincent de Paul)
UID:e.898.2857
SEQUENCE:3
DTSTAMP:20260421T172616Z
URL:https://business.hartfordareachamber.org/events/details/kooky-cooky-house-12-01-2013-2857
END:VEVENT

END:VCALENDAR
