BEGIN:VCALENDAR
VERSION:2.0
PRODID:-//ChamberMaster//Event Calendar 2.0//EN
METHOD:PUBLISH
X-PUBLISHED-TTL:P3D
REFRESH-INTERVAL:P3D
CALSCALE:GREGORIAN
BEGIN:VEVENT
DTSTART:20121222T000000Z
DTEND:20121222T020000Z
X-MICROSOFT-CDO-ALLDAYEVENT:FALSE
SUMMARY:Kooky Cooky House
DESCRIPTION:Hartford's\n\nKooky Cooky House\n\n\n\n Kids\, bring your wish list to Santa \n\nand receive a Gingerbread Cookie\n\nand Coloring Book\n\nWhile supplies last!\n\n \n\nThe Hartford Area Chamber is pleased to present the\n\nKooky Cooky House\; bringing a bit of the past to Hartford.\n\nVisit us this year at the temporary \n\nlocation\; come back again next year!\n\n \n\n37 North Main Street\n\nDowntown\, Hartford\n\nformerly Stacia's  Home & Garden D cor\n\nEnter from Johnson Street via the Link Building\n\n \n\nNov 16 to Dec 22\n\nFridays 6-8pm\n\nand\n\nSaturdays Noon-2pm\n\nParents... bring your cameras!
X-ALT-DESC;FMTTYPE=text/html:<strong><span style="font-size: 20px\;"><span style="font-family: comic sans ms\;">Hartford&#39\;s<br />\n<span style="font-size: 24px\;">Kooky Cooky House</span></span></span></strong><br />\n<br />\n&nbsp\;<span style="font-weight: bold\; language: en\;"><span style="font-size: 12pt\;"><span style="font-family: candara\;">Kids\, bring your wish list to Santa </span></span></span><br />\n<span style="font-weight: bold\; language: en\;"><span style="font-size: 12pt\;"><span style="font-family: candara\;">and receive a Gingerbread Cookie</span></span></span><br />\n<span style="font-weight: bold\; language: en\;"><span style="font-size: 12pt\;"><span style="font-family: candara\;">and Coloring Book</span></span></span><br />\n<span style="font-style: italic\; language: en\;"><span style="font-size: 9pt\;"><span style="font-family: candara\;">While supplies last!</span></span></span><br />\n&nbsp\;<br />\n<span style="language: en\;"><span style="font-family: candara\;">The Hartford Area Chamber is pleased to present the<br />\nKooky Cooky House\; bringing a bit of the past to Hartford.<br />\nVisit us this year at the temporary </span></span><br />\n<span style="language: en\;"><span style="font-family: candara\;">location\; come back again next year!</span></span><br />\n&nbsp\;<br />\n<span style="font-weight: bold\; language: en\;"><span style="font-size: 14pt\;"><span style="font-family: candara\;">37 North Main Street</span></span></span><br />\n<span style="font-weight: bold\; language: en\;"><span style="font-size: 14pt\;"><span style="font-family: candara\;">Downtown\, Hartford</span></span></span><br />\n<span style="font-style: italic\; language: en\;"><span style="font-family: candara\;">formerly Stacia&rsquo\;s&nbsp\; Home &amp\; Garden D&eacute\;cor</span></span><br />\n<span style="font-style: italic\; language: en\;"><span style="font-size: 8pt\;"><span style="font-family: candara\;">Enter from Johnson Street via the Link Building</span></span></span><br />\n&nbsp\;<br />\n<span style="font-weight: bold\; language: en\;"><span style="font-size: 12pt\;"><span style="color: rgb(180\, 0\, 0)\;"><span style="font-family: candara\;">Nov 16 to Dec 22</span></span></span></span><br />\n<span style="font-size: 18px\;"><span style="font-weight: bold\; language: en\;"><span style="font-family: candara\;">Fridays </span></span><span style="font-weight: bold\; language: en\;"><span style="font-family: candara\;">6-8pm</span></span></span><br />\n<span style="font-weight: bold\; language: en\;"><span style="font-size: 12pt\;"><span style="font-family: candara\;">and</span></span></span><br />\n<span style="font-size: 18px\;"><span style="font-weight: bold\; language: en\;"><span style="font-family: candara\;">Saturdays </span></span><span style="font-weight: bold\; language: en\;"><span style="font-family: candara\;">Noon-2pm<br />\n<span style="font-size: 12px\;"><em><strong>Parents... bring your cameras!</strong></em></span></span></span><br />\n&nbsp\;</span><br />\n&nbsp\;<br />\n&nbsp\;<br />\n
LOCATION:37 North Main Street Downtown\, Hartford
UID:e.898.1691
SEQUENCE:3
DTSTAMP:20260422T134120Z
URL:https://business.hartfordareachamber.org/events/details/kooky-cooky-house-12-21-2012-1691
END:VEVENT

END:VCALENDAR
