BEGIN:VCALENDAR
VERSION:2.0
PRODID:-//ChamberMaster//Event Calendar 2.0//EN
METHOD:PUBLISH
X-PUBLISHED-TTL:P3D
REFRESH-INTERVAL:P3D
CALSCALE:GREGORIAN
BEGIN:VEVENT
DTSTART:20120815T223000Z
DTEND:20120816T003000Z
X-MICROSOFT-CDO-ALLDAYEVENT:FALSE
SUMMARY:Kraemer Cancer Center and Specialty Clinics Community Open House
DESCRIPTION:We're ready to welcome the community to an open house! Take a tour of the new Kraemer Cancer Center\, a member of the Froedtert & The Medical College of Wisconsin Cancer Network\, and the expanded Froedtert & The Medical College of Wisconsin Specialty Clinics located on the Froedtert Health St. Joseph's Hospital Campus. Learn about the new services and technology\, and meet some of the outstanding doctors and nurses on staff.\n\n\n\nYou'll enjoy music\, free refreshments and snacks.
X-ALT-DESC;FMTTYPE=text/html:We&#39\;re ready to welcome the community to an open house! Take a tour of the new Kraemer Cancer Center\, a member of the Froedtert &amp\; The Medical College of Wisconsin Cancer Network\, and the expanded Froedtert &amp\; The Medical College of Wisconsin Specialty Clinics located on the Froedtert Health St. Joseph&#39\;s Hospital Campus. Learn about the new services and technology\, and meet some of the outstanding doctors and nurses on staff.<br />\n<br />\nYou&#39\;ll enjoy music\, free refreshments and snacks.
LOCATION:Froedtert Health St. Joseph's Hospital campus 3200 Pleasant Valley Road West Bend\, WI 53095
UID:e.898.1583
SEQUENCE:3
DTSTAMP:20260420T033652Z
URL:https://business.hartfordareachamber.org/events/details/kraemer-cancer-center-and-specialty-clinics-community-open-house-08-15-2012-1583
END:VEVENT

END:VCALENDAR
