BEGIN:VCALENDAR
VERSION:2.0
PRODID:-//ChamberMaster//Event Calendar 2.0//EN
METHOD:PUBLISH
X-PUBLISHED-TTL:P3D
REFRESH-INTERVAL:P3D
CALSCALE:GREGORIAN
BEGIN:VEVENT
DTSTART:20190604T163000Z
DTEND:20190604T180000Z
X-MICROSOFT-CDO-ALLDAYEVENT:FALSE
SUMMARY:Learn on Lunch | Golf Outing 101
DESCRIPTION:Learn from PGA professional Craig Czerniejewski\n\nEverything you need to know about attending a golf outing from check in to the 19th hole and everything in between including FREE lessons!
X-ALT-DESC;FMTTYPE=text/html:Learn from <strong>PGA professional Craig Czerniejewski</strong><br />\nEverything you need to know about attending a golf outing from check in to the 19th hole and everything in between including<strong> FREE lessons!</strong>
LOCATION:Washington County Golf Course 6439 Clover Rd Hartford\, WI
UID:e.898.5918
SEQUENCE:3
DTSTAMP:20260419T151121Z
URL:https://business.hartfordareachamber.org/events/details/learn-on-lunch-golf-outing-101-5918
END:VEVENT

END:VCALENDAR
