BEGIN:VCALENDAR
VERSION:2.0
PRODID:-//ChamberMaster//Event Calendar 2.0//EN
METHOD:PUBLISH
X-PUBLISHED-TTL:P3D
REFRESH-INTERVAL:P3D
CALSCALE:GREGORIAN
BEGIN:VEVENT
DTSTART:20130926T230000Z
DTEND:20130927T020000Z
X-MICROSOFT-CDO-ALLDAYEVENT:FALSE
SUMMARY:Legal Issues for Small Business
DESCRIPTION:Legal Issues for Small Business\n\n	\n\n	CRN #20737\n\n	Know your rights and liability under the law. What do you do if you are sued? How do you limit your liability exposure? What if your customers do not pay? What form of ownership should your business be and why? Can you legally operate your business out of your house? We'll answer these questions and more.
X-ALT-DESC;FMTTYPE=text/html:<p class="MsoNormal" style="margin: 0in 0in 0pt\;">\n	<font size="3"><font color="#000000"><font face="Calibri"><strong><span style="font-size: 14px\;">Legal Issues for Small Business</span></strong><br />\n	<br />\n	CRN #20737<o:p></o:p></font></font></font></p>\n<p class="MsoNormal" style="margin: 0in 0in 0pt\;">\n	<font size="3"><font color="#000000"><font face="Calibri">Know your rights and liability under the law. What do you do if you are sued? How do you limit your liability exposure? What if your customers do not pay? What form of ownership should your business be and why? Can you legally operate your business out of your house? We&rsquo\;ll answer these questions and more.<o:p></o:p></font></font></font></p>\n<p class="MsoNormal" style="margin: 0in 0in 0pt\;">\n	<b style="mso-bidi-font-weight: normal\;"><o:p><font color="#000000" face="Calibri" size="3">&nbsp\;</font></o:p></b></p>\n<p class="MsoNormal" style="margin: 0in 0in 10pt\;">\n	<o:p><font color="#000000" face="Calibri" size="3">&nbsp\;</font></o:p></p>\n
LOCATION:Moraine Park Technical College / Fond du Lac Campus
UID:e.898.2213
SEQUENCE:3
DTSTAMP:20260421T215948Z
URL:https://business.hartfordareachamber.org/events/details/legal-issues-for-small-business-09-26-2013-2213
END:VEVENT

END:VCALENDAR
