BEGIN:VCALENDAR
VERSION:2.0
PRODID:-//ChamberMaster//Event Calendar 2.0//EN
METHOD:PUBLISH
X-PUBLISHED-TTL:P3D
REFRESH-INTERVAL:P3D
CALSCALE:GREGORIAN
BEGIN:VEVENT
DTSTART:20150409T153000Z
DTEND:20150409T163000Z
X-MICROSOFT-CDO-ALLDAYEVENT:FALSE
SUMMARY:Lights of the Lakes with photographer Phil Block
DESCRIPTION:Take a break and enjoy an entertaining and informative program. Phil Block\, a professional photographer from Port Washington\, will present ?Lights of the Lakes? at the Old Courthouse Museum. This hour-long slide explains the history of Great Lakes transportation and the light stations built to protect it. Features over 200 photographs of Great Lakes lighthouses and shipwrecks\, as well as music and sound effects. Free for WCHS Members\, $5.00 for non-members. Fee includes refreshments and admission to the Old Courthouse Museum. Reservations appreciated. Contact Jessica (262) 335-4678 or education@historyisfun.com.
X-ALT-DESC;FMTTYPE=text/html:Take a break and enjoy an entertaining and informative program. Phil Block\, a professional photographer from Port Washington\, will present ?Lights of the Lakes? at the Old Courthouse Museum. This hour-long slide explains the history of Great Lakes transportation and the light stations built to protect it. Features over 200 photographs of Great Lakes lighthouses and shipwrecks\, as well as music and sound effects. Free for WCHS Members\, $5.00 for non-members. Fee includes refreshments and admission to the Old Courthouse Museum. Reservations appreciated. Contact Jessica (262) 335-4678 or education@historyisfun.com.
LOCATION:Old Courthouse Museum 320 S. 5th Ave. West Bend\, WI 53095
UID:e.898.3364
SEQUENCE:3
DTSTAMP:20260420T140823Z
URL:https://business.hartfordareachamber.org/events/details/lights-of-the-lakes-with-photographer-phil-block-04-09-2015-3364
END:VEVENT

END:VCALENDAR
