BEGIN:VCALENDAR
VERSION:2.0
PRODID:-//ChamberMaster//Event Calendar 2.0//EN
METHOD:PUBLISH
X-PUBLISHED-TTL:P3D
REFRESH-INTERVAL:P3D
CALSCALE:GREGORIAN
BEGIN:VEVENT
DTSTART:20120424T130000Z
DTEND:20120424T150000Z
X-MICROSOFT-CDO-ALLDAYEVENT:FALSE
SUMMARY:LinkedIn Seminar
DESCRIPTION:Social Media\n\nHow to Make it Work for You\n\nA Seminar on LinkedIn\n\nPresented by Patrice Hoeschle\, HADC\n\n\n\nThe Future Hartford Leadership Class of 2012 and the\n\nHartford Area Chamber of Commerce would like to invite\n\nyou to an informational session on the use of LinkedIn\, a\n\nform of social media. We will go over the benefits that\n\nLinkedIn can bring to your business\, as well as ways that it\n\ncan enrich your career.\n\n\n\nTuesday\, April 24\n\n8 to 10 am\n\n\n\nAurora Medical Center-Washington County\n\n1032 East Sumner\, Hartford\n\n\n\nThe seminar will be held in the second floor Cedar Lake Room at the Aurora Medical Center in Hartford.\n\n\n\nThis education offering is being offered at no cost\n\nto Hartford Area Chamber members only!\n\n\n\nRefreshments will be served.\n\n\n\nWIFI is available.\n\nBring your laptop or just take notes!
X-ALT-DESC;FMTTYPE=text/html:<span style="font-size: 16px"><strong>Social Media<br />\nHow to Make it Work for You<br />\nA Seminar on LinkedIn</strong><br />\n<span style="font-size: 12px"><em>Presented by Patrice Hoeschle\, HADC</em></span></span><br />\n<br />\nThe Future Hartford Leadership Class of 2012 and the<br />\nHartford Area Chamber of Commerce would like to invite<br />\nyou to an informational session on the use of LinkedIn\, a<br />\nform of social media. We will go over the benefits that<br />\nLinkedIn can bring to your business\, as well as ways that it<br />\ncan enrich your career.<br />\n<br />\n<strong><span style="font-size: 16px">Tuesday\, April 24</span><br />\n<span style="font-size: 14px">8 to 10 am</span></strong><br />\n<br />\n<strong><span style="font-size: 14px">Aurora Medical Center-Washington County</span><br />\n1032 East Sumner\, Hartford</strong><br />\n<br />\nThe seminar will be held in the second floor Cedar Lake Room at the Aurora Medical Center in Hartford.<br />\n<br />\nThis education offering is being offered at no cost<br />\nto Hartford Area Chamber members only!<br />\n<br />\nRefreshments will be served.<br />\n<br />\nWIFI is available.<br />\nBring your laptop or just take notes!
LOCATION:Aurora Medical Center Cedar Lake Room 1032 E Sumner Hartford
UID:e.898.1144
SEQUENCE:3
DTSTAMP:20260423T020054Z
URL:https://business.hartfordareachamber.org/events/details/linkedin-seminar-04-24-2012-1144
END:VEVENT

END:VCALENDAR
