BEGIN:VCALENDAR
VERSION:2.0
PRODID:-//ChamberMaster//Event Calendar 2.0//EN
METHOD:PUBLISH
X-PUBLISHED-TTL:P3D
REFRESH-INTERVAL:P3D
CALSCALE:GREGORIAN
BEGIN:VEVENT
DTSTART:20130504T140000Z
DTEND:20130504T180000Z
X-MICROSOFT-CDO-ALLDAYEVENT:FALSE
SUMMARY:Living History Encamptment Family Day
DESCRIPTION:Families are invited to experience the sights\, sounds\, and smells of early Wisconsin at the only outdoor history encampment in Washington County.\n\n\n\nProfessional re-enactors might show you how to bake a pie in the ground\, why a blacksmith needs bee's wax\, what to make out of horse hair\, and more!\n\n\n\n$5/adult\, Free/children 12 & under\, and WCHS members.\n\n\n\nHeld rain or shine on the Old Courthouse Museum grounds. This is an outdoor event\, so dress for the weather!\n\n\n\nAll proceeds support the programs and museums of Washington County Historical Society\, Inc.
X-ALT-DESC;FMTTYPE=text/html:<span style="font-size: 14px\;"><strong>Families are invited to experience the sights\, sounds\, and smells of early Wisconsin at the only outdoor history encampment in Washington County.</strong></span><br />\n<br />\nProfessional re-enactors might show you how to bake a pie in the ground\, why a blacksmith needs bee&rsquo\;s wax\, what to make out of horse hair\, and more!<br />\n<br />\n$5/adult\, Free/children 12 &amp\; under\, and WCHS members.<br />\n<br />\nHeld rain or shine on the Old Courthouse Museum grounds. This is an outdoor event\, so dress for the weather!<br />\n<br />\nAll proceeds support the programs and museums of Washington County Historical Society\, Inc.
LOCATION:Old Courthouse Museum 320 S. 5th Ave\, West Bend\, WI 53095
UID:e.898.1785
SEQUENCE:3
DTSTAMP:20260419T135917Z
URL:https://business.hartfordareachamber.org/events/details/living-history-encamptment-family-day-05-04-2013-1785
END:VEVENT

END:VCALENDAR
