BEGIN:VCALENDAR
VERSION:2.0
PRODID:-//ChamberMaster//Event Calendar 2.0//EN
METHOD:PUBLISH
X-PUBLISHED-TTL:P3D
REFRESH-INTERVAL:P3D
CALSCALE:GREGORIAN
BEGIN:VEVENT
DTSTART:20130716T170000Z
DTEND:20130716T183000Z
X-MICROSOFT-CDO-ALLDAYEVENT:FALSE
SUMMARY:Long Term Care - Tuesday's Topic
DESCRIPTION:Long Term Care Strategic Planning \n\nTuesday\, July 16\, 2013\n\n \n\nJack Russell Memorial Library\n\n100 Park Avenue\, Hartford\n\nRegistration Required!\n\n \n\nRegistration with Lunch & Networking: 12 Noon\n\nPresentation: 12:30 pm to about 1:30 pm\n\nCost: $5 Chamber Members -- $10 non-Chamber members\n\n \n\nJay Luedtke and David Claussen are this month's hosts and will be talking about long term care to clarify misconceptions about the long term care industry. Specifically\, changes in long term care need\, how to fund it\, and how to evaluate long term care options. \n\n\n\nThey will also be providing information on how to use tax free dollars to fund premiums. \n\nAttendees will learn how long term care can impact their retirement\, their family and their estate strategy.\n\n\n\n\n\nABOUT THE PRESENTERS\n\nJay Luedtke has been with Northwestern Mutual for 3 years and has earned the role as long term care specialist. He is responsible for in-depth training to all new representatives in long term care within the agency. \n\n\n\nDavid Claussen has been with Northwestern Mutual as a financial representative for the past year and has been actively involved in the community of Hartford. His passion and conviction to help clients with the long term care side of planning comes from experiencing this need first-hand with his family\, and because of this he has a strong desire to help educate people on the importance of adding this to their financial plan.
X-ALT-DESC;FMTTYPE=text/html:<span style="font-weight:bold\;language:EN\;"><span style="font-family:candara\;"><span style="font-size:16.0pt\;">Long Term Care Strategic Planning </span></span></span><br />\n<span style="font-size:14px\;"><span style="font-weight: bold\;"><span style="font-family: candara\;">Tuesday\, July 16\, 2013</span></span><br />\n&nbsp\;<br />\n<span style="font-weight: bold\;"><span style="font-family: candara\;">Jack Russell Memorial Library</span></span><br />\n<span style="font-weight: bold\;"><span style="font-family: candara\;">100 Park Avenue\, Hartford</span></span><br />\n<span style="font-style: italic\;"><span style="font-family: candara\;">Registration Required!</span></span><br />\n&nbsp\;<br />\n<span style="font-weight: bold\;"><span style="font-family: candara\;">Registration with Lunch &amp\; Networking</span></span><span><span style="font-family: candara\;">: 12 Noon</span></span><br />\n<span style="font-weight: bold\;"><span style="font-family: candara\;">Presentation</span></span><span><span style="font-family: candara\;">: 12:30 pm to about 1:30 pm</span></span><br />\n<span style="font-weight: bold\;"><span style="font-family: candara\;">Cost</span></span><span><span style="font-family: candara\;">: $5 Chamber Members -- $10 non-Chamber members</span></span><br />\n&nbsp\;<br />\n<span><span style="font-family: candara\;">Jay Luedtke and David Claussen are this month&rsquo\;s hosts and will be talking about long term care to clarify misconceptions about the long term care </span><span><span style="font-family: candara\;">industry. Specifically\, changes in long term care need\, how to fund it\, and how to evaluate long term care options. </span></span><br />\n<br />\n<span><span style="font-family: candara\;">They will also be providing information on how to use tax free dollars to fund premiums. </span></span><br />\n<span><span style="font-family: candara\;">Attendees will learn how long term care can impact their retirement\, their family and their estate strategy.</span></span><br />\n<br />\n<br />\n<span style="font-weight: bold\;"><span style="font-family: candara\;">ABOUT THE PRESENTERS</span></span><br />\n<span><span style="font-family: candara\;">Jay Luedtke has been with Northwestern Mutual for 3 years and has earned the role as long term care specialist. He is responsible for in-depth training to all new representatives in long term care within the agency. </span></span><br />\n<br />\n<span><span style="font-family: candara\;">David Claussen has been with Northwestern Mutual as a financial representative for the past year and has been actively involved in the community of Hartford. His passion and conviction to help clients with the long term care side of planning comes from experiencing this need first-hand with his family\, and because of this he has a strong desire to help educate people on the importance of adding this to their financial plan.</span></span><br />\n&nbsp\;</span></span><br />\n&nbsp\;
LOCATION:Community Room Jack Russell Memorial Library 100 Park Avenue Hartford
UID:e.898.2583
SEQUENCE:3
DTSTAMP:20260422T005241Z
URL:https://business.hartfordareachamber.org/events/details/long-term-care-tuesday-s-topic-07-16-2013-2583
END:VEVENT

END:VCALENDAR
