BEGIN:VCALENDAR
VERSION:2.0
PRODID:-//ChamberMaster//Event Calendar 2.0//EN
METHOD:PUBLISH
X-PUBLISHED-TTL:P3D
REFRESH-INTERVAL:P3D
CALSCALE:GREGORIAN
BEGIN:VEVENT
DTSTART:20190712T170000Z
DTEND:20190720T170000Z
X-MICROSOFT-CDO-ALLDAYEVENT:FALSE
SUMMARY:Mama Mia! presented by the Hartford Players
DESCRIPTION:ABBA's hits tell the hilarious story of a young woman's search for her birth father. This sunny and funny tale unfolds on a Greek island paradise. On the eve of her wedding\, a daughter's quest to discover the identity of her father brings three men from her mother's past back to the island they last visited 20 years ago. The story-telling magic of ABBA's timeless songs propels this enchanting tale of love\, laughter and friendship\, creating an unforgettable show. A large cast\, non-stop laughs and explosive dance numbers combine to make Mamma Mia! a guaranteed smash hit for any theatre. A mother. A daughter. Three possible dads. And a trip down the aisle you'll never forget!
X-ALT-DESC;FMTTYPE=text/html:ABBA&#39\;s hits tell the hilarious story of a young woman&#39\;s search for her birth father. This sunny and funny tale unfolds on a Greek island paradise. On the eve of her wedding\, a daughter&#39\;s quest to discover the identity of her father brings three men from her mother&#39\;s past back to the island they last visited 20 years ago. The story-telling magic of ABBA&#39\;s timeless songs propels this enchanting tale of love\, laughter and friendship\, creating an unforgettable show. A large cast\, non-stop laughs and explosive dance numbers combine to make Mamma Mia! a guaranteed smash hit for any theatre. A mother. A daughter. Three possible dads. And a trip down the aisle you&#39\;ll never forget!
LOCATION:Schauer Arts Center 147 N. Rural Street Hartford\, WI 53027 https://www.schauercenter.org
UID:e.898.5897
SEQUENCE:3
DTSTAMP:20260419T152741Z
URL:https://business.hartfordareachamber.org/events/details/mama-mia-presented-by-the-hartford-players-5897
END:VEVENT

END:VCALENDAR
