BEGIN:VCALENDAR
VERSION:2.0
PRODID:-//ChamberMaster//Event Calendar 2.0//EN
METHOD:PUBLISH
X-PUBLISHED-TTL:P3D
REFRESH-INTERVAL:P3D
CALSCALE:GREGORIAN
BEGIN:VEVENT
DTSTART:20130808T130000Z
DTEND:20130808T220000Z
X-MICROSOFT-CDO-ALLDAYEVENT:FALSE
SUMMARY:Marketing Through Social Media Analytics:
DESCRIPTION:Marketing Through Social Media Analytics\n\n	\n\n	This one-day course focuses on providing tools and techniques in a business context to understand and leverage readily available social media information. Participants will learn strategies relating to the foundations of social listening\, social media measurement\, leveraging consumer-intelligence data\, and context-driven strategies for real-world situations. Your program registration will also include a follow-up webinar two-weeks after the program to answer questions. Credit and non-credit registration options available. This program is offered in collaboration with University of Wisconsin-Stout Online Services and Professional Education Programs and Services.
X-ALT-DESC;FMTTYPE=text/html:<p class="MsoNormal" style="margin: 0in 0in 0pt\; line-height: normal\;">\n	<font size="3"><font color="#000000"><font face="Calibri"><span style="font-size: 16px\;"><strong>Marketing Through Social Media Analytics</strong></span><br />\n	<br />\n	This one-day course focuses on providing tools and techniques in a business context to understand and leverage readily available social media information. Participants will learn strategies relating to the foundations of social listening\, social media measurement\, leveraging consumer-intelligence data\, and context-driven strategies for real-world situations. Your program registration will also include a follow-up webinar two-weeks after the program to answer questions. Credit and non-credit registration options available. This program is offered in collaboration with University of Wisconsin-Stout Online Services and Professional Education Programs and Services.<o:p></o:p></font></font></font></p>\n
LOCATION:University of Wisconsin-Stout Memorial Student Center 302 10th Ave. E. Menomonie\, WI 54751
UID:e.898.2531
SEQUENCE:3
DTSTAMP:20260421T233523Z
URL:https://business.hartfordareachamber.org/events/details/marketing-through-social-media-analytics-08-08-2013-2531
END:VEVENT

END:VCALENDAR
