BEGIN:VCALENDAR
VERSION:2.0
PRODID:-//ChamberMaster//Event Calendar 2.0//EN
METHOD:PUBLISH
X-PUBLISHED-TTL:P3D
REFRESH-INTERVAL:P3D
CALSCALE:GREGORIAN
BEGIN:VEVENT
DTSTART:20130418T223000Z
DTEND:20130419T013000Z
X-MICROSOFT-CDO-ALLDAYEVENT:FALSE
SUMMARY:Marketing Your Small Business
DESCRIPTION:Marketing Your Small Business\n\n\n\nA 3 hour course dedicated to marketing techniques requried for a successful marketing plan for your small business.
X-ALT-DESC;FMTTYPE=text/html:<strong><span style="font-size: 14px\;">Marketing Your Small Business</span></strong><br />\n<br />\nA 3 hour course dedicated to marketing techniques requried for a successful marketing plan for your small business.
LOCATION:Moraine Park Technical College - Fond du Lac Campus 235 N. National Avenue\, Fond du Lac
UID:e.898.1789
SEQUENCE:3
DTSTAMP:20260422T060605Z
URL:https://business.hartfordareachamber.org/events/details/marketing-your-small-business-04-18-2013-1789
END:VEVENT

END:VCALENDAR
