BEGIN:VCALENDAR
VERSION:2.0
PRODID:-//ChamberMaster//Event Calendar 2.0//EN
METHOD:PUBLISH
X-PUBLISHED-TTL:P3D
REFRESH-INTERVAL:P3D
CALSCALE:GREGORIAN
BEGIN:VEVENT
DTSTART;VALUE=DATE:20130701
DTEND;VALUE=DATE:20130702
TRANSP:TRANSPARENT
X-MICROSOFT-CDO-ALLDAYEVENT:TRUE
SUMMARY:Marketing Your Small Business
DESCRIPTION:Marketing Your Small Business\n\n	CRN #10218\n\n	 \n\n	Discover the importance of knowing who your customer is and the techniques required for a successful marketing plan. Participants will apply concepts of product\, price\, promotion\, and placement while understanding the critical role marketing plays in a small business.
X-ALT-DESC;FMTTYPE=text/html:<p class="MsoNormal" style="margin: 0in 0in 0pt\;">\n	<font size="3"><font color="#000000"><font face="Calibri"><span style="font-size: 16px\;"><strong>Marketing Your Small Business</strong></span><br />\n	CRN #10218</font></font></font><br />\n	&nbsp\;</p>\n<p class="MsoNormal" style="margin: 0in 0in 10pt\;">\n	<font size="3"><font color="#000000"><font face="Calibri">Discover the importance of knowing who your customer is and the techniques required for a successful marketing plan. Participants will apply concepts of product\, price\, promotion\, and placement while understanding the critical role marketing plays in a small business.<o:p></o:p></font></font></font></p>\n
LOCATION:Moraine Park Technical College / Fond du Lac Campus
UID:e.898.1847
SEQUENCE:3
DTSTAMP:20260422T005909Z
URL:https://business.hartfordareachamber.org/events/details/marketing-your-small-business-07-01-2013-1847
END:VEVENT

END:VCALENDAR
