BEGIN:VCALENDAR
VERSION:2.0
PRODID:-//ChamberMaster//Event Calendar 2.0//EN
METHOD:PUBLISH
X-PUBLISHED-TTL:P3D
REFRESH-INTERVAL:P3D
CALSCALE:GREGORIAN
BEGIN:VEVENT
DTSTART:20190710T150000Z
DTEND:20190711T010000Z
X-MICROSOFT-CDO-ALLDAYEVENT:FALSE
SUMMARY:Maxwell Street Day
DESCRIPTION:MAXWELL STREET DAY\n\n Wednesday\, July 10\n\n 10 am to 8 pm\n\nPRINTABLE REGISTRATION FORM HERE \n\nSuper bargains and great deals all over Hartford!\n\n\n\nWhere else can you find deals\, eat outstanding summer-time food\, listen to live entertainment and visit with your neighbor?  Maxwell Street Day\, of course!  Not your ordinary sidewalk sale\, thousands flock to this once-a-year event in Hartford.  Don't miss it!
X-ALT-DESC;FMTTYPE=text/html:<span style="font-size:20px"><strong><span style="font-family:arial">&nbsp\;MAXWELL STREET DAY</span></strong></span><br />\n<strong><span style="font-size:16px">&nbsp\;Wednesday\, July 10<br />\n&nbsp\;10 am to 8 pm</span><br />\n<a href="https://chambermaster.blob.core.windows.net/userfiles/UserFiles/chambers/898/File/2019MaxwellSt.VendorReg.pdf">PRINTABLE REGISTRATION FORM HERE</a>&nbsp\;<br />\n<span style="font-size:14px">Super bargains and great deals all over Hartford!</span></strong><br />\n<br />\nWhere else can you find deals\, eat outstanding summer-time food\, listen to live entertainment and visit with your neighbor?&nbsp\; Maxwell Street Day\, of course!&nbsp\; Not your ordinary sidewalk sale\, thousands flock to this once-a-year event in Hartford.&nbsp\; Don&#39\;t miss it!
LOCATION:Main Street Hartford\, WI
UID:e.898.5724
SEQUENCE:3
DTSTAMP:20260419T151310Z
URL:https://business.hartfordareachamber.org/events/details/maxwell-street-day-5724
END:VEVENT

END:VCALENDAR
