BEGIN:VCALENDAR
VERSION:2.0
PRODID:-//ChamberMaster//Event Calendar 2.0//EN
METHOD:PUBLISH
X-PUBLISHED-TTL:P3D
REFRESH-INTERVAL:P3D
CALSCALE:GREGORIAN
BEGIN:VEVENT
DTSTART:20130424T220000Z
DTEND:20130425T010000Z
X-MICROSOFT-CDO-ALLDAYEVENT:FALSE
SUMMARY:Medical Center Foundation of Hartford Annual Dinner
DESCRIPTION:"The Spur and the Sash"\n\na love story set amid the anarchy and chaos of postwar Tennessee will headline the Medical Center Foundation of Hartford's 35th Annual Dinner\n\n\n\nThis year's featured speaker is Robert Grede\, BA\, MBA.  Mr. Grede is a graduate of DePauw University and The Emory University School of Business\, has been a carpenter\, musician\, teacher\, author\, speaker\, entrepreneur\, consultant\, and dad.  For fun\, he writes string quartets.  Grede has been on the faculty at the University of Wisconsin-Milwaukee\, Carroll College\, and Marquette\n\nUniversity\, is a syndicated columnist and frequent contributor to magazines\, and has authored the best-selling Naked Marketing   The Bare Essentials and several other books on marketing and strategic planning.  He will share excerpts from his first novel\, The Spur and the Sash.\n\n\n\n\n\nWednesday\, April 24\, Hartford Golf Club\n\nDinner 6:00 p.m.\, followed by brief updates on Foundation programs and featured speakers\n\nReserve your spot today!
X-ALT-DESC;FMTTYPE=text/html:<em><strong>&ldquo\;The Spur and the Sash&rdquo\;</strong></em><br />\n<span style="color: rgb(0\, 0\, 255)\;">a love story set amid the anarchy and chaos of postwar Tennessee will headline the </span><span style="font-size: 14px\;"><span><strong>Medical Center Foundation of Hartford&rsquo\;s 35th Annual Dinner</strong></span></span><br />\n<br />\n<span style="color: rgb(0\, 0\, 255)\;">This year&rsquo\;s featured speaker is </span><span><strong>Robert Grede\, BA\, MBA</strong></span><span style="color: rgb(0\, 0\, 255)\;">.&nbsp\; Mr. Grede is a graduate of DePauw University and The Emory University School of Business\, has been a carpenter\, musician\, teacher\, author\, speaker\, entrepreneur\, consultant\, and dad.&nbsp\; For fun\, he writes string quartets.&nbsp\; Grede has been on the faculty at the University of Wisconsin-Milwaukee\, Carroll College\, and Marquette<br />\nUniversity\, is a syndicated columnist and frequent contributor to magazines\, and has authored the best-selling Naked Marketing &ndash\; The Bare Essentials and several other books on marketing and strategic planning.&nbsp\; He will share excerpts from his first novel\, The Spur and the Sash.</span><br />\n<br />\n<br />\n<strong><span>Wednesday\, April 24\, Hartford Golf Club<br />\nDinner 6:00 p.m.\, followed by brief updates on Foundation programs and featured speakers<br />\nReserve your spot today!</span></strong><br />\n
LOCATION:Hartford Golf Club 7072 Lee Road - Hartford
UID:e.898.1796
SEQUENCE:3
DTSTAMP:20260419T150529Z
URL:https://business.hartfordareachamber.org/events/details/medical-center-foundation-of-hartford-annual-dinner-04-24-2013-1796
END:VEVENT

END:VCALENDAR
