BEGIN:VCALENDAR
VERSION:2.0
PRODID:-//ChamberMaster//Event Calendar 2.0//EN
METHOD:PUBLISH
X-PUBLISHED-TTL:P3D
REFRESH-INTERVAL:P3D
CALSCALE:GREGORIAN
BEGIN:VEVENT
DTSTART:20120717T150000Z
DTEND:20120717T220000Z
X-MICROSOFT-CDO-ALLDAYEVENT:FALSE
SUMMARY:Medical Center Foundation's 22nd Annual Goldbug Golf Classic
DESCRIPTION:Mark your calendars for Tuesday\, July 17 and be part of the exceptional Granddaddy of charitable events in Washington County\, the 22nd Annual Goldbug Golf Tournament!  If you relish the idea of driving the links with your friends\, at Hartford Golf Club\, this is the golf event you won't want to miss! You'll be able to pair your love of golf with the socially responsible activity of helping raise money for the Foundation's community programs\, which include Adult Day Services\, Transportation\, Personal Emergency Response and Sexual Assault Nurse Examiner (SANE).\n\n	\n\n	To register\, simply send your $100 Player Fee to:\n\n	Medical Center Foundation of Hartford\n\n	1032 E. Sumner Street\n\n	Hartford\, WI  53027\n\n	\n\n	Or\, you may reach Laura Eggert\, executive director at 262-670-7568\, or e-mail to give@mcfhartford.org\n\n	\n\n	This is a great time\, a great networking opportunity and we promise good weather too!
X-ALT-DESC;FMTTYPE=text/html:<p class="MsoNormal" style="margin: 0in 0in 0pt">\n	<span style="font-size: 10.5pt\; color: green\; font-family: 'comic sans ms'">Mark your calendars for Tuesday\, July 17 and be part of the <strong><u><span style="font-family: 'comic sans ms'">exceptional</span></u></strong> <em><span style="font-family: 'comic sans ms'">Granddaddy of charitable events </span></em>in Washington County\, the 22nd Annual Goldbug Golf Tournament!&nbsp\; If you relish the idea of driving the links with your friends\,&nbsp\;at Hartford Golf Club\, this is the golf event you won&#39\;t want to miss! You&rsquo\;ll be able to pair your love of golf with the socially responsible activity of helping raise money for the Foundation&rsquo\;s community programs\, which include Adult Day Services\, Transportation\, Personal Emergency Response and Sexual Assault Nurse Examiner (SANE).</span><br />\n	<br />\n	<span style="font-size: 10.5pt\; color: blue\; font-family: 'comic sans ms'">To register\, simply send your $100 Player Fee to:<br />\n	Medical Center Foundation of Hartford<br />\n	1032 E. Sumner Street<br />\n	Hartford\, WI&nbsp\; 53027<br />\n	<br />\n	Or\, you may reach Laura Eggert\, executive director at 262-670-7568\, or e-mail to give@mcfhartford.org</span><br />\n	<br />\n	<span style="font-size: 10.5pt\; font-family: 'comic sans ms'"><strong><span style="color: red\; font-family: 'comic sans ms'">This is a great time\, a great networking opportunity and we promise good weather too! </span></strong><b><span style="color: red"><v:shapetype coordsize="21600\,21600" filled="f" id="_x0000_t75" o:preferrelative="t" o:spt="75" path="m@4@5l@4@11@9@11@9@5xe" stroked="f"><v:stroke joinstyle="miter"></v:stroke><v:formulas><v:f eqn="if lineDrawn pixelLineWidth 0"></v:f><v:f eqn="sum @0 1 0"></v:f><v:f eqn="sum 0 0 @1"></v:f><v:f eqn="prod @2 1 2"></v:f><v:f eqn="prod @3 21600 pixelWidth"></v:f><v:f eqn="prod @3 21600 pixelHeight"></v:f><v:f eqn="sum @0 0 1"></v:f><v:f eqn="prod @6 1 2"></v:f><v:f eqn="prod @7 21600 pixelWidth"></v:f><v:f eqn="sum @8 21600 0"></v:f><v:f eqn="prod @7 21600 pixelHeight"></v:f><v:f eqn="sum @10 21600 0"></v:f></v:formulas><v:path gradientshapeok="t" o:connecttype="rect" o:extrusionok="f"></v:path><o:lock aspectratio="t" v:ext="edit"></o:lock></v:shapetype><v:shape alt="smiley" id="_x0000_i1025" style="width: 15pt\; height: 15pt" type="#_x0000_t75"><v:imagedata o:href="https://secure2.chambermaster.com/ckeditor/plugins/smiley/images/regular_smile.gif" src="file:///C:%5CDOCUME%7E1%5C150721%5CLOCALS%7E1%5CTemp%5Cmsohtmlclip1%5C01%5Cclip_image001.gif"></v:imagedata></v:shape></span></b></span><o:p></o:p></p>\n
LOCATION:Hartford Golf Club - 7072 Lee Road - Hartford\, WI 53027
UID:e.898.1557
SEQUENCE:3
DTSTAMP:20260424T084343Z
URL:https://business.hartfordareachamber.org/events/details/medical-center-foundation-s-22nd-annual-goldbug-golf-classic-07-17-2012-1557
END:VEVENT

END:VCALENDAR
