BEGIN:VCALENDAR
VERSION:2.0
PRODID:-//ChamberMaster//Event Calendar 2.0//EN
METHOD:PUBLISH
X-PUBLISHED-TTL:P3D
REFRESH-INTERVAL:P3D
CALSCALE:GREGORIAN
BEGIN:VEVENT
DTSTART:20120729T010000Z
DTEND:20120729T020000Z
X-MICROSOFT-CDO-ALLDAYEVENT:FALSE
SUMMARY:Meet the Ranger
DESCRIPTION:A park ranger will share what their duties are in providing a safe and enjoyable visit at the Pike Lake Unit.
X-ALT-DESC;FMTTYPE=text/html:<br />\n<span style="font-size: 14px">A park ranger will share what their duties are in providing a safe and enjoyable visit at the Pike Lake Unit.</span>
LOCATION:Pike Lake Campground
UID:e.898.1560
SEQUENCE:3
DTSTAMP:20260420T050541Z
URL:https://business.hartfordareachamber.org/events/details/meet-the-ranger-07-28-2012-1560
END:VEVENT

END:VCALENDAR
