BEGIN:VCALENDAR
VERSION:2.0
PRODID:-//ChamberMaster//Event Calendar 2.0//EN
METHOD:PUBLISH
X-PUBLISHED-TTL:P3D
REFRESH-INTERVAL:P3D
CALSCALE:GREGORIAN
BEGIN:VEVENT
DTSTART:20130527T160000Z
DTEND:20130527T170000Z
X-MICROSOFT-CDO-ALLDAYEVENT:FALSE
SUMMARY:Memorial Day Ceremonies
DESCRIPTION:Memorial Day \n\nA Day of Remembrance\n\n\n\n6:00 AM\n\nUnited Vietnam Veterans of Hartford\, VFW Post 8834 and members of the Courtney-Carr-Milner American Legion Post 19 Color Guard and Firing Squad will execute a traditional rifle salute at each of the city's four cemeteries\n\n\n\n7:00 AM\n\nThe Avenue of Flags will be put up on the Abbott Avenue near the VFW Memorial Hall\n\n\n\n10:00 AM\n\nMemorial Service on Main Street near the Hartford City Hall bridge. A rifle salute and wreath laying at the Vietnam Memorial in downtown Hartford will follow.\n\n\n\n11:00 AM -- Parade\n\nBegins at North Main Street and proceeds south to Sawyer Park\n\n\n\n11:30 AM -- Memorial Day Program\n\nMemorial Day program at Sawyer Park will include American Legion Second District Commander Robert Shappell as the main speaker.
X-ALT-DESC;FMTTYPE=text/html:<strong><span style="font-size: 16px\;"><span style="font-size: 18px\;">Memorial Day </span><br />\nA Day of Remembrance</span></strong><br />\n<br />\n<strong>6:00 AM</strong><br />\nUnited Vietnam Veterans of Hartford\, VFW Post 8834 and members of the Courtney-Carr-Milner American Legion Post 19 Color Guard and Firing Squad will execute a traditional rifle salute at each of the city&#39\;s four cemeteries<br />\n<br />\n<strong>7:00 AM</strong><br />\nThe Avenue of Flags will be put up on the Abbott Avenue near the VFW Memorial Hall<br />\n<br />\n<strong>10:00 AM</strong><br />\nMemorial Service on Main Street near the Hartford City Hall bridge. A rifle salute and wreath laying at the Vietnam Memorial in downtown Hartford will follow.<br />\n<br />\n<strong>11:00 AM -- Parade</strong><br />\nBegins at North Main Street and proceeds south to Sawyer Park<br />\n<br />\n<strong>11:30 AM -- Memorial Day Program</strong><br />\nMemorial Day program at Sawyer Park will include American Legion Second District Commander Robert Shappell as the main speaker.<br />\n<br />\n
LOCATION:
UID:e.898.2516
SEQUENCE:3
DTSTAMP:20260419T133958Z
URL:https://business.hartfordareachamber.org/events/details/memorial-day-ceremonies-05-27-2013-2516
END:VEVENT

END:VCALENDAR
