BEGIN:VCALENDAR
VERSION:2.0
PRODID:-//ChamberMaster//Event Calendar 2.0//EN
METHOD:PUBLISH
X-PUBLISHED-TTL:P3D
REFRESH-INTERVAL:P3D
CALSCALE:GREGORIAN
BEGIN:VEVENT
DTSTART:20130116T233000Z
DTEND:20130117T023000Z
X-MICROSOFT-CDO-ALLDAYEVENT:FALSE
SUMMARY:Money Management for Small Business
DESCRIPTION:31328\n\nManage you business finances wisely. Keeping careful track of your business's finances is one of those must-do tasks to keep your business healthy. Get clever tips for managing your business finances and building smart small business financial relationships.
X-ALT-DESC;FMTTYPE=text/html:31328<br />\nManage you business finances wisely. Keeping careful track of your business&#39\;s finances is one of those must-do tasks to keep your business healthy. Get clever tips for managing your business finances and building smart small business financial relationships.
LOCATION:Hartford Union High School 805 Cedar St. Hartford\, WI 53027
UID:e.898.1735
SEQUENCE:3
DTSTAMP:20260422T114745Z
URL:https://business.hartfordareachamber.org/events/details/money-management-for-small-business-01-16-2013-1735
END:VEVENT

END:VCALENDAR
