BEGIN:VCALENDAR
VERSION:2.0
PRODID:-//ChamberMaster//Event Calendar 2.0//EN
METHOD:PUBLISH
X-PUBLISHED-TTL:P3D
REFRESH-INTERVAL:P3D
CALSCALE:GREGORIAN
BEGIN:VEVENT
DTSTART;VALUE=DATE:20130605
DTEND;VALUE=DATE:20130606
TRANSP:TRANSPARENT
X-MICROSOFT-CDO-ALLDAYEVENT:TRUE
SUMMARY:Money Management for Small Business
DESCRIPTION:Money Management for Small Business\n\n	CRN #10215\n\n	 \n\n	Manage your business finances wisely. Keeping careful track of your business's finances is one of those must-do tasks to keep your business healthy. Get clever tips for managing your business finances and building smart small business financial relationships.
X-ALT-DESC;FMTTYPE=text/html:<p class="MsoNormal" style="margin: 0in 0in 0pt\;">\n	<font size="3"><font color="#000000"><font face="Calibri"><span style="font-size: 16px\;"><strong>Money Management for Small Business</strong></span><br />\n	CRN #10215</font></font></font><br />\n	&nbsp\;</p>\n<p class="MsoNormal" style="margin: 0in 0in 10pt\;">\n	<font size="3"><font color="#000000"><font face="Calibri">Manage your business finances wisely. Keeping careful track of your business&rsquo\;s finances is one of those must-do tasks to keep your business healthy. Get clever tips for managing your business finances and building smart small business financial relationships.<o:p></o:p></font></font></font></p>\n
LOCATION:Moraine Park Technical College / West Bend Campus
UID:e.898.1842
SEQUENCE:3
DTSTAMP:20260422T025402Z
URL:https://business.hartfordareachamber.org/events/details/money-management-for-small-business-06-05-2013-1842
END:VEVENT

END:VCALENDAR
