BEGIN:VCALENDAR
VERSION:2.0
PRODID:-//ChamberMaster//Event Calendar 2.0//EN
METHOD:PUBLISH
X-PUBLISHED-TTL:P3D
REFRESH-INTERVAL:P3D
CALSCALE:GREGORIAN
BEGIN:VEVENT
DTSTART:20140823T150000Z
DTEND:20140823T210000Z
X-MICROSOFT-CDO-ALLDAYEVENT:FALSE
SUMMARY:Motorcycle Charity Race
DESCRIPTION:Gates Open at 10:00 am\n\nPractice from Noon-1:30 pm\n\nRace from 2:00 pm - 4:00 pm\n\n\n\nEntry is $95.00 for single or multi-rider teams.\n\n\n\nProceeds benefit Chix4aCause
X-ALT-DESC;FMTTYPE=text/html:Gates Open at 10:00 am<br />\nPractice from Noon-1:30 pm<br />\nRace from 2:00 pm - 4:00 pm<br />\n<br />\nEntry is $95.00 for single or multi-rider teams.<br />\n<br />\nProceeds benefit Chix4aCause
LOCATION:Washington County Fair Park & Conference Center 3000 Hwy PV West Bend
UID:e.898.3214
SEQUENCE:3
DTSTAMP:20260421T005107Z
URL:https://business.hartfordareachamber.org/events/details/motorcycle-charity-race-08-23-2014-3214
END:VEVENT

END:VCALENDAR
