BEGIN:VCALENDAR
VERSION:2.0
PRODID:-//ChamberMaster//Event Calendar 2.0//EN
METHOD:PUBLISH
X-PUBLISHED-TTL:P3D
REFRESH-INTERVAL:P3D
CALSCALE:GREGORIAN
BEGIN:VEVENT
DTSTART:20130427T150000Z
DTEND:20130427T190000Z
X-MICROSOFT-CDO-ALLDAYEVENT:FALSE
SUMMARY:Nat'l Pharmaceutical Take Back
DESCRIPTION:National Pharmaceutical Take Back Initiative\n\nSaturday\, April 27\, 2013\n\n10:00 am - 2:00 pm\n\n\n\nParticipants may dispose of solid\, non-liquid medication(s) by removing the medication from its container and disposing of it directly into a disposal box when they arrive at the drop off site.\n\n\n\nHeld at:\n\nWoodlawn Park - Hartford\n\nParking lot located in the 1100 block of Wacker Drive
X-ALT-DESC;FMTTYPE=text/html:<strong><span style="font-size: 18px\;">National Pharmaceutical Take Back Initiative<br />\n<span style="font-size: 12px\;">Saturday\, April 27\, 2013<br />\n10:00 am - 2:00 pm</span></span></strong><br />\n<br />\n<span style="font-size: 18px\;"><span style="font-size: 12px\;">Participants may dispose of solid\, non-liquid medication(s) by removing the medication from its container and disposing of it directly into a disposal box when they arrive at the drop off site.</span><br />\n<br />\n<em><span style="font-size: 12px\;">Held at:</span></em><br />\n<span style="font-size: 12px\;">Woodlawn Park - Hartford<br />\nParking lot located in the 1100 block of Wacker Drive</span></span><br />\n<br />\n
LOCATION:Woodlawn Park - Hartford Parking lot located in the 1100 block of Wacker Drive
UID:e.898.1781
SEQUENCE:3
DTSTAMP:20260422T055627Z
URL:https://business.hartfordareachamber.org/events/details/nat-l-pharmaceutical-take-back-04-27-2013-1781
END:VEVENT

END:VCALENDAR
