BEGIN:VCALENDAR
VERSION:2.0
PRODID:-//ChamberMaster//Event Calendar 2.0//EN
METHOD:PUBLISH
X-PUBLISHED-TTL:P3D
REFRESH-INTERVAL:P3D
CALSCALE:GREGORIAN
BEGIN:VEVENT
DTSTART:20120825T230000Z
DTEND:20120826T000000Z
X-MICROSOFT-CDO-ALLDAYEVENT:FALSE
SUMMARY:Night Owls
DESCRIPTION:Schlitz Audubon\n\nNight Owls\n\n\n\nNative Wisconsin owls display special adaptations\, including large eyes\, soft feathers\, incredible hearing and sharp talons.\n\n\n\nPlus the audience will have the opportunity to examine owl artifacts.
X-ALT-DESC;FMTTYPE=text/html:<span style="font-size:16px\;"><strong>Schlitz Audubon<br />\n<span style="font-size:18px\;">Night Owls</span></strong></span><br />\n<br />\nNative Wisconsin owls display special adaptations\, including large eyes\, soft feathers\, incredible hearing and sharp talons.<br />\n<br />\nPlus the audience will have the opportunity to examine owl artifacts.
LOCATION:Held near North Shelter
UID:e.898.1587
SEQUENCE:3
DTSTAMP:20260420T032823Z
URL:https://business.hartfordareachamber.org/events/details/night-owls-08-25-2012-1587
END:VEVENT

END:VCALENDAR
