BEGIN:VCALENDAR
VERSION:2.0
PRODID:-//ChamberMaster//Event Calendar 2.0//EN
METHOD:PUBLISH
X-PUBLISHED-TTL:P3D
REFRESH-INTERVAL:P3D
CALSCALE:GREGORIAN
BEGIN:VEVENT
DTSTART:20120913T000000Z
DTEND:20120913T020000Z
X-MICROSOFT-CDO-ALLDAYEVENT:FALSE
SUMMARY:Odd Wisconsin with author Erika Janik
DESCRIPTION:Meet Erika Janik\, author of ODD WISCONSIN\, and enjoy colorful bits of our state's history that never made it into your 4th grade social studies book.\n\n\n\nst1\\:*{behavior:url(#ieooui) }\n\n	Author Erika Janik is a freelance writer and a radio producer at Wisconsin Public Radio.  She is the author of four published books\, numerous magazine articles\, and her essays have been featured on Wisconsin Public Radio's "Wisconsin Life."\n\n	\n\n	Hospitality time with refreshment starts at 6:30 PM.  See you there!
X-ALT-DESC;FMTTYPE=text/html:<span style="font-family: 'times new roman'\; font-size: 12pt\; mso-fareast-font-family: 'times new roman'\; mso-ansi-language: en-us\; mso-fareast-language: en-us\; mso-bidi-language: ar-sa">Meet Erika Janik\, author of ODD WISCONSIN\, and enjoy colorful bits of our state&#39\;s history that never made it into your 4th grade social studies book.</span><br style="mso-special-character: line-break" />\n<object classid="clsid:38481807-CA0E-42D2-BF39-B33AF135CC4D" id="ieooui"></object>\n<style type="text/css">\nst1\\:*{behavior:url(#ieooui) }</style>\n<p class="MsoNormal">\n	Author Erika Janik is a freelance writer and a radio producer at Wisconsin Public Radio.&nbsp\; She is the author of four published books\, numerous magazine articles\, and her essays have been featured on Wisconsin Public Radio&rsquo\;s &ldquo\;Wisconsin Life.&rdquo\;<br />\n	<br />\n	Hospitality time with refreshment starts at 6:30 PM.&nbsp\; See you there!</p>\n
LOCATION:Jack Russell Memorial Library 100 Park Ave. Hartford\, WI
UID:e.898.1601
SEQUENCE:3
DTSTAMP:20260420T015611Z
URL:https://business.hartfordareachamber.org/events/details/odd-wisconsin-with-author-erika-janik-09-12-2012-1601
END:VEVENT

END:VCALENDAR
