BEGIN:VCALENDAR
VERSION:2.0
PRODID:-//ChamberMaster//Event Calendar 2.0//EN
METHOD:PUBLISH
X-PUBLISHED-TTL:P3D
REFRESH-INTERVAL:P3D
CALSCALE:GREGORIAN
BEGIN:VEVENT
DTSTART:20121013T230000Z
DTEND:20121014T020000Z
X-MICROSOFT-CDO-ALLDAYEVENT:FALSE
SUMMARY:Oktoberfest
DESCRIPTION:
X-ALT-DESC;FMTTYPE=text/html:
LOCATION:The Washington County Humane Society 3650 State Road 60\, Slinger
UID:e.898.847
SEQUENCE:3
DTSTAMP:20260420T002947Z
URL:https://business.hartfordareachamber.org/events/details/oktoberfest-10-13-2012-847
END:VEVENT

END:VCALENDAR
