BEGIN:VCALENDAR
VERSION:2.0
PRODID:-//ChamberMaster//Event Calendar 2.0//EN
METHOD:PUBLISH
X-PUBLISHED-TTL:P3D
REFRESH-INTERVAL:P3D
CALSCALE:GREGORIAN
BEGIN:VEVENT
DTSTART:20120519T160000Z
DTEND:20120519T200000Z
X-MICROSOFT-CDO-ALLDAYEVENT:FALSE
SUMMARY:Old Fashioned Block Party & Classic Car Show
DESCRIPTION:Come join us in the streets of Downtown Hartford for our annual\n\nBlock Party and Car Show\n\nMay 19 from 11-3!\n\n\n\nThis event gets bigger every year! Classic cars all from your favorite eras! Entertainment\, food\, games for the kids\, contests and more! Spend the day in Downtown Hartford!\n\n\n\nCall 673-7193 to register your classic car or go to Event Forms to download. Awards and prizes given.
X-ALT-DESC;FMTTYPE=text/html:<br />\n<span style="font-size:14px\;"><span style="font-family: tahoma\;">Come join us in the streets of Downtown Hartford for our annual<br />\n<strong>Block Party and Car Show</strong><br />\nMay 19 from 11-3!<br />\n<br />\nThis event gets bigger every year! Classic cars all from your favorite eras! Entertainment\, food\, games for the kids\, contests and more! Spend the day in Downtown Hartford!<br />\n<br />\nCall 673-7193 to register your classic car or go to Event Forms to download. Awards and prizes given.</span></span>
LOCATION:Downtown Hartford
UID:e.898.1184
SEQUENCE:3
DTSTAMP:20260420T080302Z
URL:https://business.hartfordareachamber.org/events/details/old-fashioned-block-party-classic-car-show-05-19-2012-1184
END:VEVENT

END:VCALENDAR
