BEGIN:VCALENDAR
VERSION:2.0
PRODID:-//ChamberMaster//Event Calendar 2.0//EN
METHOD:PUBLISH
X-PUBLISHED-TTL:P3D
REFRESH-INTERVAL:P3D
CALSCALE:GREGORIAN
BEGIN:VEVENT
DTSTART:20190518T150000Z
DTEND:20190518T210000Z
X-MICROSOFT-CDO-ALLDAYEVENT:FALSE
SUMMARY:Old-Fashioned Block Party & Classic Car Show
DESCRIPTION:DAY-OF-EVENT REGISTRATION IS AVAILABLE ($15)\n\n 1999 or Older Vehicles \n\n10th  Annual Old-Fashioned Block Party\n\n& Classic Car Show\nSaturday\, May 18th  \n\nfrom 10 am - 4 pm\n\nThis event gets bigger every year! \n\nMain Street closed to enjoy classic cars from all eras! \n\nEntertainment\, Food\, Activities\, Trophies and more! \n\nSpend the day Downtown Hartford!
X-ALT-DESC;FMTTYPE=text/html:<p><span style="font-size:16px"><strong><span style="color:#800080\;">DAY-OF-EVENT REGISTRATION IS AVAILABLE ($15)</span></strong><br />\n&#8203\;1999&nbsp\;or Older&nbsp\;Vehicles&nbsp\;</span><br />\n<span style="font-size:16px">10th&nbsp\; Annual Old-Fashioned Block Party<br />\n&amp\; Classic Car Show</span></p>\n<span style="font-size: 14.6667px\;">Saturday\, May 18th&nbsp\;&nbsp\;</span>\n\n<p><span style="font-size: 14.6667px\;">from 10 am&nbsp\;- 4 pm</span></p>\n\n<p><span style="font-size:11pt">This event gets bigger every year!&nbsp\;<br />\nMain Street closed to enjoy classic cars from all eras!&nbsp\;<br />\nEntertainment\, Food\, Activities\, Trophies&nbsp\;</span><span style="font-size: 14.6667px\;">and more!&nbsp\;</span></p>\n\n<p><span style="font-size:11pt">Spend the day Downtown Hartford!&nbsp\;</span></p>\n
LOCATION:Main Street | Downtown - Hartford\, WI
UID:e.898.5780
SEQUENCE:3
DTSTAMP:20260419T165756Z
URL:https://business.hartfordareachamber.org/events/details/old-fashioned-block-party-classic-car-show-5780
END:VEVENT

END:VCALENDAR
