BEGIN:VCALENDAR
VERSION:2.0
PRODID:-//ChamberMaster//Event Calendar 2.0//EN
METHOD:PUBLISH
X-PUBLISHED-TTL:P3D
REFRESH-INTERVAL:P3D
CALSCALE:GREGORIAN
BEGIN:VEVENT
DTSTART:20130224T190000Z
DTEND:20130224T220000Z
X-MICROSOFT-CDO-ALLDAYEVENT:FALSE
SUMMARY:Old Settlers' Club Banquet: Town of Hartford "Look Back on Education"
DESCRIPTION:Join the Washington County Historical Society at our annual Old Settlers' Club Banquet.  This year the banquet is hosted by the Town of Hartford at the Town Hall.  The theme is education and will celebrate the newly renovated schoolhouse.  Visit our website www.historyisfun.com for more information.
X-ALT-DESC;FMTTYPE=text/html:Join the Washington County Historical Society at our annual Old Settlers&#39\; Club Banquet.&nbsp\; This year the banquet is hosted by the Town of Hartford at the Town Hall.&nbsp\; The theme is education and will celebrate the newly renovated schoolhouse.&nbsp\; Visit our website www.historyisfun.com for more information.
LOCATION:Hartford Town Hall 3360 CTY K Hartford 53027
UID:e.898.1716
SEQUENCE:3
DTSTAMP:20260419T181511Z
URL:https://business.hartfordareachamber.org/events/details/old-settlers-club-banquet-town-of-hartford-look-back-on-education-02-24-2013-1716
END:VEVENT

END:VCALENDAR
