BEGIN:VCALENDAR
VERSION:2.0
PRODID:-//ChamberMaster//Event Calendar 2.0//EN
METHOD:PUBLISH
X-PUBLISHED-TTL:P3D
REFRESH-INTERVAL:P3D
CALSCALE:GREGORIAN
BEGIN:VEVENT
DTSTART:20130211T233000Z
DTEND:20130212T033000Z
X-MICROSOFT-CDO-ALLDAYEVENT:FALSE
SUMMARY:Old World Bread Series
DESCRIPTION:30790\n\nBread has been called the staff of life and nowhere is this more apparent than in Old World Breads. From flat breads of the ancient lands to crusty German Rye bread and French baguettes\, this series will teach one how to reproduce authentic Old World breads in taste and texture right in one's own kitchen.
X-ALT-DESC;FMTTYPE=text/html:30790<br />\nBread has been called the staff of life and nowhere is this more apparent than in Old World Breads. From flat breads&nbsp\;of the ancient lands to crusty German Rye bread and French baguettes\, this series will teach one how to reproduce authentic Old World breads in taste and texture right in one&#39\;s own kitchen.
LOCATION:Hartford Union High School 805 Cedar St. Hartford\, WI 53027
UID:e.898.1748
SEQUENCE:3
DTSTAMP:20260422T094103Z
URL:https://business.hartfordareachamber.org/events/details/old-world-bread-series-02-11-2013-1748
END:VEVENT

END:VCALENDAR
