BEGIN:VCALENDAR
VERSION:2.0
PRODID:-//ChamberMaster//Event Calendar 2.0//EN
METHOD:PUBLISH
X-PUBLISHED-TTL:P3D
REFRESH-INTERVAL:P3D
CALSCALE:GREGORIAN
BEGIN:VEVENT
DTSTART:20131017T230000Z
DTEND:20131018T020000Z
X-MICROSOFT-CDO-ALLDAYEVENT:FALSE
SUMMARY:Opportunity Analysis
DESCRIPTION:Opportunity Analysis\n\n	\n\n	CRN #20736\nAssess the current economic\, social and political climate for small businesses. Student should be able to explain how demographic\, technological and social changes create opportunities for small business ventures
X-ALT-DESC;FMTTYPE=text/html:<p class="MsoNormal" style="margin: 0in 0in 0pt\;">\n	<font size="3"><font color="#000000"><font face="Calibri"><span style="font-size: 14px\;"><strong>Opportunity Analysis</strong></span><br />\n	<br />\n	CRN #20736<o:p></o:p></font></font></font></p>\n<font color="#000000"><span style="line-height: 115%\; font-family: &quot\;Calibri&quot\;\,&quot\;sans-serif&quot\;\; font-size: 11pt\; mso-fareast-font-family: Calibri\; mso-ansi-language: EN-US\; mso-fareast-language: EN-US\; mso-bidi-language: AR-SA\; mso-fareast-theme-font: minor-latin\; mso-ascii-theme-font: minor-latin\; mso-hansi-theme-font: minor-latin\; mso-bidi-font-family: &quot\;Times New Roman&quot\;\; mso-bidi-theme-font: minor-bidi\;">Assess the current economic\, social and political climate for small businesses. Student should be able to explain how demographic\, technological and social changes create opportunities for small business ventures</span></font>
LOCATION:Moraine Park Technical College / Fond du Lac Campus
UID:e.898.2214
SEQUENCE:3
DTSTAMP:20260421T201027Z
URL:https://business.hartfordareachamber.org/events/details/opportunity-analysis-10-17-2013-2214
END:VEVENT

END:VCALENDAR
