BEGIN:VCALENDAR
VERSION:2.0
PRODID:-//ChamberMaster//Event Calendar 2.0//EN
METHOD:PUBLISH
X-PUBLISHED-TTL:P3D
REFRESH-INTERVAL:P3D
CALSCALE:GREGORIAN
BEGIN:VEVENT
DTSTART:20121110T133000Z
DTEND:20121110T200000Z
X-MICROSOFT-CDO-ALLDAYEVENT:FALSE
SUMMARY:Pancake Day
DESCRIPTION:Hartford Lions\n\nPancake Day\n\n   Pancakes or French Toast \n\n   ~ All You Can Eat ~\n\n\n\nwith pork sausage or ham\n\n\n\nProceeds Support Community Projects\n\n\n\nTICKETS:\n\nHartford Cleaners\n\n107 W Sumner St\n\n     & all Hartford Lions\n\n\n\nHARTFORD CRAFT EXPO\n\nsponsored by\n\nHartford Women's Club
X-ALT-DESC;FMTTYPE=text/html:<strong><span style="font-size: 14px">Hartford Lions</span></strong><br />\n<span style="font-size: 18px"><strong>Pancake Day</strong></span><br />\n&nbsp\;&nbsp\; Pancakes or French Toast&nbsp\;<br />\n&nbsp\;&nbsp\; ~ All You Can Eat ~<br />\n<br />\nwith pork sausage or ham<br />\n<br />\n<strong>Proceeds Support Community Projects</strong><br />\n<br />\nTICKETS:<br />\nHartford Cleaners<br />\n107 W Sumner St<br />\n&nbsp\;&nbsp\;&nbsp\;&nbsp\; &amp\;&nbsp\;all Hartford Lions<br />\n<br />\n<span style="font-size: 16px"><strong>HARTFORD CRAFT EXPO</strong></span><br />\nsponsored by<br />\nHartford Women&#39\;s Club
LOCATION:Hartford Union High School
UID:e.898.1630
SEQUENCE:3
DTSTAMP:20260422T143831Z
URL:https://business.hartfordareachamber.org/events/details/pancake-day-11-10-2012-1630
END:VEVENT

END:VCALENDAR
