BEGIN:VCALENDAR
VERSION:2.0
PRODID:-//ChamberMaster//Event Calendar 2.0//EN
METHOD:PUBLISH
X-PUBLISHED-TTL:P3D
REFRESH-INTERVAL:P3D
CALSCALE:GREGORIAN
BEGIN:VEVENT
DTSTART:20141108T133000Z
DTEND:20141108T193000Z
X-MICROSOFT-CDO-ALLDAYEVENT:FALSE
SUMMARY:Pancake Day - Hartford Lions
DESCRIPTION:Pancakes or French Toast - All you can eat\n\nwith pork sausage or ham\n\n\n\nProceeds support community projects\n\nTickets sold at the Hartford  Cleaners and all Hartford Lions\n\n\n\nFree diabetes screenings\n\n\n\nHeld in conjunction with the Hartford Craft Expo sponsored by The Hartford Women's Club and the city Christmas parade.
X-ALT-DESC;FMTTYPE=text/html:<strong><span style="font-size:14px\;">Pancakes or French Toast - All you can eat</span></strong><br />\nwith pork sausage or ham<br />\n<br />\nProceeds support community projects<br />\nTickets sold at the Hartford&nbsp\; Cleaners and all Hartford Lions<br />\n<br />\nFree diabetes screenings<br />\n<br />\nHeld in conjunction with the Hartford Craft Expo sponsored by The Hartford Women&#39\;s Club and the city Christmas parade.
LOCATION:Hartford Union High School 805 Cedar Street
UID:e.898.3273
SEQUENCE:3
DTSTAMP:20260420T214208Z
URL:https://business.hartfordareachamber.org/events/details/pancake-day-hartford-lions-11-08-2014-3273
END:VEVENT

END:VCALENDAR
