BEGIN:VCALENDAR
VERSION:2.0
PRODID:-//ChamberMaster//Event Calendar 2.0//EN
METHOD:PUBLISH
X-PUBLISHED-TTL:P3D
REFRESH-INTERVAL:P3D
CALSCALE:GREGORIAN
BEGIN:VEVENT
DTSTART:20121114T000000Z
DTEND:20121114T013000Z
X-MICROSOFT-CDO-ALLDAYEVENT:FALSE
SUMMARY:Parenting the Love and Logic Way
DESCRIPTION:Peace Lutheran School will offer a six week parenting course. The course will meet once a week\, on Sunday evenings at 6:00 pm and will be repeated on Tuesday evenings at 6:30 pm. The sessions will last between 60 and 90 minutes.\n\n\n\nThe course is designed to provide parents the skills required to feel more relaxed\, hopeful and positive about their children.\n\n\n\nParents will learn how to:\n\n	\n		Avoid un-winnable power struggles and arguments\n	\n		Stay calm when their kids do incredible\, upsetting things\n	\n		Set enforceable limits\n	\n		Avoid enabling and begin empowering\n	\n		Help their kids learn from mistakes rather then repeating them\n	\n		Raise kids who are family members rather then dictators
X-ALT-DESC;FMTTYPE=text/html:Peace Lutheran School will offer a six week parenting course. The course will meet once a week\, on Sunday evenings at 6:00 pm and will be repeated on Tuesday evenings at 6:30 pm. The sessions will last between 60 and 90 minutes.<br />\n<br />\nThe course is designed to provide parents the skills required to feel more relaxed\, hopeful and positive about their children.<br />\n<br />\nParents will learn how to:\n<ul>\n	<li>\n		Avoid un-winnable power struggles and arguments</li>\n	<li>\n		Stay calm when their kids do incredible\, upsetting things</li>\n	<li>\n		Set enforceable limits</li>\n	<li>\n		Avoid enabling and begin empowering</li>\n	<li>\n		Help their kids learn from mistakes rather then repeating them</li>\n	<li>\n		Raise kids who are family members rather then dictators</li>\n</ul>\n
LOCATION:Peace Lutheran School 1001 Center Street Hartford\, WI 53027
UID:e.898.1655
SEQUENCE:3
DTSTAMP:20260422T145030Z
URL:https://business.hartfordareachamber.org/events/details/parenting-the-love-and-logic-way-11-13-2012-1655
END:VEVENT

END:VCALENDAR
