BEGIN:VCALENDAR
VERSION:2.0
PRODID:-//ChamberMaster//Event Calendar 2.0//EN
METHOD:PUBLISH
X-PUBLISHED-TTL:P3D
REFRESH-INTERVAL:P3D
CALSCALE:GREGORIAN
BEGIN:VEVENT
DTSTART:20131101T130000Z
DTEND:20131101T170000Z
X-MICROSOFT-CDO-ALLDAYEVENT:FALSE
SUMMARY:Payroll Forum 2013
DESCRIPTION:Business Improvement Workshop\n\n2013 Payroll Forum\n\nIf you are responsible for payroll or human resources in your organization\, you won't want to miss the 2013 Payroll Forum! \n\n\n\nA few of the topics that will be covered this year include: \n\n\n\n  How to calculate third party sick pay and fringe benefits \n\n  How the new Health Care Reform rules will impact your payroll \n\n  Key components of the Fair Labor Standards Act (FLSA) \n\n  Exempt vs. non-exempt employees how do payroll rules differ? \n\n  Federal and state requirements for tracking employee hours worked \n\n  Year-end update and changes to Form 940 \n\nEach participant will receive a link to access the year-end payroll manual and other reference materials. \n\n\n\n Workshops will run from 8:30 a.m.   12 p.m. Registration will begin at 8 a.m. \n\n\n\n \n\nSpeakers include:\n\nLibby Welhouse\, CPP\n\nPayroll Specialist\n\nAmy Bradley\, CPP\n\nPayroll Specialist\n\nDebra Pagel\n\nDirector of Human Resources Consulting\n\n800-236-2246   schencksc.com
X-ALT-DESC;FMTTYPE=text/html:<br />\n<strong><span style="font-size: large\;">Business Improvement Workshop</span></strong><br />\n<span style="font-size: large\;"><span style="font-family: myriad pro\,myriad pro\;">2013 Payroll Forum</span></span><br />\n<span style="font-size: small\;"><span style="font-family: myriad pro\,myriad pro\;">If you are responsible for payroll or human resources in your organization\, you won&rsquo\;t want to miss the 2013 Payroll Forum! </span></span><br />\n<br />\n<strong><span style="font-size: medium\;">A few of the topics that will be covered this year include: </span></strong><br />\n<br />\n<span style="font-size: small\;"><span style="font-family: myriad pro\,myriad pro\;">&bull\; How to calculate third party sick pay and fringe benefits </span></span><br />\n<span style="font-size: small\;"><span style="font-family: myriad pro\,myriad pro\;">&bull\; How the new Health Care Reform rules will impact your payroll </span></span><br />\n<span style="font-size: small\;"><span style="font-family: myriad pro\,myriad pro\;">&bull\; Key components of the Fair Labor Standards Act (FLSA) </span></span><br />\n<span style="font-size: small\;"><span style="font-family: myriad pro\,myriad pro\;">&bull\; Exempt vs. non-exempt employees&mdash\;how do payroll rules differ? </span></span><br />\n<span style="font-size: small\;"><span style="font-family: myriad pro\,myriad pro\;">&bull\; Federal and state requirements for tracking employee hours worked </span></span><br />\n<span style="font-size: small\;"><span style="font-family: myriad pro\,myriad pro\;">&bull\; Year-end update and changes to Form 940 </span></span><br />\n<span style="font-size: small\;"><span style="font-family: myriad pro\,myriad pro\;">Each participant will receive a link to access the year-end payroll manual and other reference materials.&nbsp\;</span></span><br />\n<br />\n<strong><span style="font-size: medium\;">&nbsp\;</span></strong><span style="font-size: small\;"><span style="font-family: myriad pro\,myriad pro\;">Workshops will run from 8:30 a.m. &ndash\; 12 p.m. Registration will begin at 8 a.m.&nbsp\;</span></span><br />\n<br />\n<strong><span style="font-size: small\;"><span style="font-family: myriad pro light\,myriad pro light\;">&nbsp\;</span></span></strong><br />\n<strong><span style="font-size: small\;"><span style="font-family: myriad pro cond\,myriad pro cond\;">Speakers include:</span></span></strong><br />\n<strong><span style="font-size: small\;"><span style="font-family: myriad pro cond\,myriad pro cond\;">Libby Welhouse\, CPP</span></span></strong><br />\n<span style="font-size: small\;"><span style="font-family: myriad pro cond\,myriad pro cond\;">Payroll Specialist</span></span><br />\n<strong><span style="font-size: small\;"><span style="font-family: myriad pro cond\,myriad pro cond\;">Amy Bradley\, CPP</span></span></strong><br />\n<span style="font-size: small\;"><span style="font-family: myriad pro cond\,myriad pro cond\;">Payroll Specialist</span></span><br />\n<strong><span style="font-size: small\;"><span style="font-family: myriad pro cond\,myriad pro cond\;">Debra Pagel</span></span></strong><br />\n<span style="font-size: small\;"><span style="font-family: myriad pro cond\,myriad pro cond\;">Director of Human Resources Consulting</span></span><br />\n<strong><span style="font-size: small\;"><span style="font-family: myriad pro\,myriad pro\;">800-236-2246 &bull\; schencksc.com</span></span></strong><br />\n<br />\n
LOCATION:November 6 Green BayRock Garden\, 1951 Bond Street November 7 ClevelandLakeshore Technical College\, 1290 North Avenue November 8 OshkoshLa Sure's Hall\, 3125 S. Washburn Street November 13 MilwaukeeCrowne Plaza Hotel\, 10499 Innovation Drive\, Wauwatosa November 14 Fond du Lac Holiday Inn of Fond du Lac\, 625 W. Rolling Meadows Drive November 15 Appleton Butte des Morts Country Club\, 3600 W. Prospect Avenue
UID:e.898.2830
SEQUENCE:3
DTSTAMP:20260421T183344Z
URL:https://business.hartfordareachamber.org/events/details/payroll-forum-2013-11-01-2013-2830
END:VEVENT

END:VCALENDAR
