BEGIN:VCALENDAR
VERSION:2.0
PRODID:-//ChamberMaster//Event Calendar 2.0//EN
METHOD:PUBLISH
X-PUBLISHED-TTL:P3D
REFRESH-INTERVAL:P3D
CALSCALE:GREGORIAN
BEGIN:VEVENT
DTSTART:20140211T003000Z
DTEND:20140211T013000Z
X-MICROSOFT-CDO-ALLDAYEVENT:FALSE
SUMMARY:Peace Lutheran Preschool Open House
DESCRIPTION:Peace Lutheran Preschool is hosting a family information night to show families how children learn at Peace Preschool.
X-ALT-DESC;FMTTYPE=text/html:Peace Lutheran Preschool is hosting a family information night to show families how children learn at Peace Preschool. 
LOCATION:Peace Lutheran School 1025 Peace Lutheran Dr. Hartford\, WI 53027
UID:e.898.2931
SEQUENCE:3
DTSTAMP:20260421T140935Z
URL:https://business.hartfordareachamber.org/events/details/peace-lutheran-preschool-open-house-02-10-2014-2931
END:VEVENT

END:VCALENDAR
