BEGIN:VCALENDAR
VERSION:2.0
PRODID:-//ChamberMaster//Event Calendar 2.0//EN
METHOD:PUBLISH
X-PUBLISHED-TTL:P3D
REFRESH-INTERVAL:P3D
CALSCALE:GREGORIAN
BEGIN:VEVENT
DTSTART:20120923T190000Z
DTEND:20120923T200000Z
X-MICROSOFT-CDO-ALLDAYEVENT:FALSE
SUMMARY:Peace Parade
DESCRIPTION:Peace Parade\n\n	 \n\n	Sunday\, September 23\n\n	2 pm\n\n	\n\n	Participants at 1:30 pm\n\n	West Bend\n\n	\n\n	Public library - Regner  Park
X-ALT-DESC;FMTTYPE=text/html:<p>\n	<span style="font-size: 20px"><strong>Peace Parade</strong></span><br />\n	&nbsp\;</p>\n<p>\n	<strong>Sunday\, September 23</strong><br />\n	2 pm<br />\n	<br />\n	Participants at 1:30 pm<br />\n	West Bend<br />\n	<br />\n	Public library - Regner&nbsp\;&nbsp\;Park</p>\n
LOCATION:Downtown West Bend
UID:e.898.1620
SEQUENCE:3
DTSTAMP:20260422T175036Z
URL:https://business.hartfordareachamber.org/events/details/peace-parade-09-23-2012-1620
END:VEVENT

END:VCALENDAR
