BEGIN:VCALENDAR
VERSION:2.0
PRODID:-//ChamberMaster//Event Calendar 2.0//EN
METHOD:PUBLISH
X-PUBLISHED-TTL:P3D
REFRESH-INTERVAL:P3D
CALSCALE:GREGORIAN
BEGIN:VEVENT
DTSTART:20140405T143000Z
DTEND:20140405T200000Z
X-MICROSOFT-CDO-ALLDAYEVENT:FALSE
SUMMARY:Photography with Michael Cooney
DESCRIPTION:Toadally Natural Garden\n\n\n\nSaturday\, April 5\n\nCommunity Photography Day\n\n\n\nPhotography for Everyone\n\nLearn 10 Things you can do to improve your photography and create memorable images.\n\nPhotographers of all abilities are welcome.\n\n2 hr. class followed by a guided photo shoot.\n\n \n\nClass: 9:30 AM   12:00 N.  Clothed class with model(s) everyone welcome.\n\nSuggested donation: $20\n\n \n\nSandwiches and refreshments for lunch\n\n \n\nGuided photo shoot\n\nToadally Natural Gardens friends & guests\n\nClothing optional as weather permits.\n\n1:00 PM   3:00 PM
X-ALT-DESC;FMTTYPE=text/html:<font size="5"><font face="Times New Roman"><span style="font-size: 18pt\;"><b>Toadally Natural Garden</b></span></font></font><br />\n<br />\n<font face="Times New Roman"><span style="font-size: 12pt\;"><b><span class="aBn" data-term="goog_1957631015" tabindex="0"><span class="aQJ">Saturday\, April 5</span></span><br />\nCommunity Photography Day</b></span></font><br />\n<br />\n<font face="Calibri\, Verdana\, Helvetica\, Arial"><span style="font-size: 10.5pt\;"><b>Photography for Everyone</b><br />\nLearn 10 Things you can do to improve your photography and create memorable images.<br />\nPhotographers of all abilities are welcome.<br />\n2 hr. class followed by a guided photo shoot.<br />\n&nbsp\;<br />\nClass: <span class="aBn" data-term="goog_1957631016" tabindex="0"><span class="aQJ">9:30 AM &ndash\; 12:00</span></span> N. &nbsp\;Clothed class with model(s) everyone welcome.<br />\nSuggested donation: $20<br />\n&nbsp\;<br />\nSandwiches and refreshments for lunch<br />\n&nbsp\;<br />\nGuided photo shoot<br />\nToadally Natural Gardens friends &amp\; guests<br />\nClothing optional as weather permits.<br />\n<span class="aBn" data-term="goog_1957631017" tabindex="0"><span class="aQJ">1:00 PM &ndash\; 3:00 PM</span></span></span></font><br type="_moz" />\n
LOCATION:Toadally Natural Garden 6601 County Road K Hartford Wisconsin
UID:e.898.2937
SEQUENCE:3
DTSTAMP:20260421T082044Z
URL:https://business.hartfordareachamber.org/events/details/photography-with-michael-cooney-04-05-2014-2937
END:VEVENT

END:VCALENDAR
